BEGIN:VCALENDAR
VERSION:2.0
PRODID:-//https://takethedate.it///NONSGML kigkonsult.se iCalcreator 2.10.15//
METHOD:PUBLISH
BEGIN:VEVENT
UID:20260420T083456CEST-5266Xwh9U3@https://takethedate.it/
DTSTAMP:20260420T063456Z
DESCRIPTION:\n\n\nL'evento co-organizzato con l'Harvard Kennedy School sarà
  l'occasione per discutere le trasformazioni politiche\, economiche e soci
 ali messe in atto dai cambiamenti climatici\, nonché le principali sfide c
 he l'Ue e gli Stati Uniti dovranno affrontare a questo riguardo. Interverr
 anno studiosi IAI e del Belfer Centre\, esperti e professionisti internazi
 onali e i principali stakeholders pubblici e privati del settore energetic
 o.\n\n\n\n  https://takethedate.it/tutti-gli-eventi/Eventi/6510-the-geopol
 itics-of-climate-a-transatlantic-dialogue.html
DTSTART:20180627T083000Z
DTEND:20180627T153000Z
LOCATION:Palazzo Rondinini (Via del Corso 518\, Roma)
SUMMARY:The Geopolitics of Climate - A Transatlantic Dialogue
URL:https://takethedate.it/tutti-gli-eventi/Eventi/6510-the-geopolitics-of-
 climate-a-transatlantic-dialogue.html
END:VEVENT
END:VCALENDAR
