BEGIN:VCALENDAR
VERSION:2.0
PRODID:-//https://takethedate.it///NONSGML kigkonsult.se iCalcreator 2.10.15//
METHOD:PUBLISH
BEGIN:VEVENT
UID:20260423T163523CEST-9671Ha7HDR@https://takethedate.it/
DTSTAMP:20260423T143523Z
DESCRIPTION:Le aree interne italiane sono spesso descritte come “fragili”\,
  eppure racchiudono un potenziale straordinario per il rilancio economico\
 , sociale e culturale del Paese. Inserito nel cartellone ufficiale dell’Aq
 uila Capitale italiana della Cultura 2026\, l’incontro “Aree interne in ca
 mmino: quel mondo a parte che attrae” esplora come trasformare questi terr
 itori in comunità protagoniste e destinazioni d’eccellenza\, partendo dai 
 cammini fino alla narrazione cinematografica.\nPromosso dalla Fondazione M
 agna Carta\, l’evento è un momento di riflessione strategica sul futuro de
 i borghi e delle aree montane. Protagonista d’eccezione sarà il regista Ri
 ccardo Milani\, autore del celebre film Un Mondo a Parte\, che dialogherà 
 con il Presidente della Fondazione Magna Carta\, Gaetano Quagliariello\, p
 er riflettere sul valore dei luoghi considerati “a parte” e sulle buone pr
 atiche necessarie per invertire la rotta dello spopolamento.\nModerato da 
 Annamaria Parente\, l’appuntamento rappresenta la prima del ciclo “Aree fr
 agili: futuro possibile”\, confermando come la cultura\, la bellezza dei p
 aesaggi e la narrazione mediatica possano diventare leve decisive per il f
 uturo.\nProgramma\nSaluti istituzionali\nAntonio Di Santo\,  Sindaco di Op
 i\nRappresentante del Comune dell’Aquila \n \nDialogano\nGaetano Quagliari
 ello\, Presidente Fondazione Magna Carta\nRiccardo Milani\, Regista del fi
 lm “Un mondo a parte”\n \nModera \nAnnamaria Parente\, Direttrice Osservat
 orio Crisi Demografica FMC https://takethedate.it/tutti-gli-eventi/Eventi/
 52536-aree-interne-in-cammino-quel-mondo-a-parte-che-attrae.html
DTSTART:20260427T090000Z
DTEND:20260427T120000Z
LOCATION:L'Aquila (L'Aquila)
SUMMARY:Aree interne in cammino: quel 'mondo a parte' che attrae 
URL:https://takethedate.it/tutti-gli-eventi/Eventi/52536-aree-interne-in-ca
 mmino-quel-mondo-a-parte-che-attrae.html
END:VEVENT
END:VCALENDAR
