BEGIN:VCALENDAR
VERSION:2.0
PRODID:-//https://takethedate.it///NONSGML kigkonsult.se iCalcreator 2.10.15//
METHOD:PUBLISH
BEGIN:VEVENT
UID:20260423T163123CEST-4192jJ1nSt@https://takethedate.it/
DTSTAMP:20260423T143123Z
DESCRIPTION:Parte il corso Il ruolo manageriale del percorso Change Managem
 ent per la PA con il primo modulo dal titolo Motivazione e performance.Obi
 ettivo del primo modulo è attivare una rilettura del proprio ruolo da esec
 utore di norme a responsabile di risultati\, performance e impatto pubblic
 o.Docente:Antonio Meola - Segretario Generale Città Metropolitana di Napol
 i\nCome iscriversiLa lezione è gratuita e aperta a tutti e fa parte del pe
 rcorso formativo Change Management per la PA\nPer iscriverti e partecipare
 :\n\naccedi alla Scuola IFEL\n\nvai alla pagina del corso Il ruolo manager
 ialee clicca su Iscriviti\n\n\n\nSe non sei in possesso delle credenziali 
 di accesso\, effettua prima la registrazione dal Sito IFEL e poi procedi a
 ll’accesso alla Scuola.\nCome partecipareLa partecipazione alla diretta è 
 riservata a 1000 partecipanti.Dal giorno lavorativo seguente la diretta\, 
 l’accesso sarà aperto a tutti per la fruizione della registrazione e dei m
 ateriali in modalità asincrona.\nPer gli iscritti è previsto il rilascio d
 i un open badge personale attestante la competenza acquisita a conclusione
  del percorso formativo.I materiali delle attività formative erogate da IF
 EL sono disponibili anche in libera fruizione:\n\nsul canale YouTube Forma
 zione IFEL\, nella playlist dedicata\n https://takethedate.it/tutti-gli-ev
 enti/Eventi/52534-motivazione-e-performance.html
DTSTART:20260505T093000Z
DTEND:20260505T110000Z
LOCATION:evento online  ()
SUMMARY:Motivazione e performance
URL:https://takethedate.it/tutti-gli-eventi/Eventi/52534-motivazione-e-perf
 ormance.html
END:VEVENT
END:VCALENDAR
