BEGIN:VCALENDAR
VERSION:2.0
PRODID:-//https://takethedate.it///NONSGML kigkonsult.se iCalcreator 2.10.15//
METHOD:PUBLISH
BEGIN:VEVENT
UID:20260423T212532CEST-9243PhMBZd@https://takethedate.it/
DTSTAMP:20260423T192532Z
DESCRIPTION:Parte il corso Transizione energetica europea e conto termico: 
 visione strategica e ricadute operative del percorso Transizione energetic
 a europea con il primo di due moduli dal titolo Transizione energica: le p
 olitiche europee.La transizione energetica dei Comuni italiani non è più u
 n tema settoriale\, né un insieme di adempimenti tecnici da gestire in mod
 o episodico. È diventata una politica pubblica strutturale\, che intreccia
  efficienza energetica\, rigenerazione urbana\, innovazione digitale\, qua
 lità dell’aria\, resilienza climatica\, educazione ambientale e coesione s
 ociale.\nDurante il primo modulo verranno illustrate a grandi linee le pol
 itiche europee che riguardano la transizione energica\, con un’attenzione 
 specifica alla declinazione che se ne ha avuta in Italia (comprese le CER)
 .Relatori:Francesco Monaco - Capo Dipartimento Supporto ai Comuni e Politi
 che europee IFELGiuseppe Milano - Ingegnere edile-architetto ed urbanista 
 esperto in pianificazione energetica e comunale\nCome iscriversiLa lezione
  è gratuita e aperta a tutti e fa parte del percorso formativo Transizione
  energetica\nPer iscriverti e partecipare:\n\naccedi alla Scuola IFEL\n\nv
 ai alla pagina del corso Transizione energetica europea e conto termico: v
 isione strategica e ricadute operativee clicca su Iscriviti\n\n\n\nSe non 
 sei in possesso delle credenziali di accesso\, effettua prima la registraz
 ione dal Sito IFEL e poi procedi all’accesso alla Scuola.\nCome partecipar
 eLa partecipazione alla diretta è riservata a 1000 partecipanti.Dal giorno
  lavorativo seguente la diretta\, l’accesso sarà aperto a tutti per la fru
 izione della registrazione e dei materiali in modalità asincrona.\nPer gli
  iscritti è previsto il rilascio di un open badge personale attestante la 
 competenza acquisita a conclusione del percorso formativo.I materiali dell
 e attività formative erogate da IFEL sono disponibili anche in libera frui
 zione:\n\nsul canale YouTube Formazione IFEL\, nella playlist dedicata\n h
 ttps://takethedate.it/tutti-gli-eventi/Eventi/52532-transizione-energica-l
 e-politiche-europee.html
DTSTART:20260429T100000Z
DTEND:20260429T113000Z
LOCATION:evento online  ()
SUMMARY:Transizione energica: le politiche europee
URL:https://takethedate.it/tutti-gli-eventi/Eventi/52532-transizione-energi
 ca-le-politiche-europee.html
END:VEVENT
END:VCALENDAR
