BEGIN:VCALENDAR
VERSION:2.0
PRODID:-//https://takethedate.it///NONSGML kigkonsult.se iCalcreator 2.10.15//
METHOD:PUBLISH
BEGIN:VEVENT
UID:20260423T163056CEST-6377cHokVx@https://takethedate.it/
DTSTAMP:20260423T143056Z
DESCRIPTION:Prosegue il corso Dal fenomeno burocratico alla generazione di 
 Valore Pubblico del percorso Change Management per la PA con il secondo mo
 dulo dal titolo Driver\, stakeholder e resistenze.Obiettivo del secondo mo
 dulo è individuare fattori scatenanti\, resistenze e leve di consenso che 
 incidono sui processi di cambiamento nelle amministrazioni.Docente:Antonio
  Meola - Segretario Generale Città Metropolitana di Napoli\nCome iscrivers
 iLa lezione è gratuita e aperta a tutti e fa parte del percorso formativo 
 Change Management per la PA\nPer iscriverti e partecipare:\n\naccedi alla 
 Scuola IFEL\n\nvai alla pagina del corso Dal fenomeno burocratico alla gen
 erazione di Valore Pubblicoe clicca su Iscriviti\n\n\n\nSe non sei in poss
 esso delle credenziali di accesso\, effettua prima la registrazione dal Si
 to IFEL e poi procedi all’accesso alla Scuola.\nCome partecipareLa parteci
 pazione alla diretta è riservata a 1000 partecipanti.Dal giorno lavorativo
  seguente la diretta\, l’accesso sarà aperto a tutti per la fruizione dell
 a registrazione e dei materiali in modalità asincrona.\nPer gli iscritti è
  previsto il rilascio di un open badge personale attestante la competenza 
 acquisita a conclusione del percorso formativo.I materiali delle attività 
 formative erogate da IFEL sono disponibili anche in libera fruizione:\n\ns
 ul canale YouTube Formazione IFEL\, nella playlist dedicata\n https://take
 thedate.it/tutti-gli-eventi/Eventi/52531-driver-stakeholder-e-resistenze.h
 tml
DTSTART:20260427T093000Z
DTEND:20260427T110000Z
LOCATION:evento online  ()
SUMMARY:Driver\, stakeholder e resistenze
URL:https://takethedate.it/tutti-gli-eventi/Eventi/52531-driver-stakeholder
 -e-resistenze.html
END:VEVENT
END:VCALENDAR
