BEGIN:VCALENDAR
VERSION:2.0
PRODID:-//https://takethedate.it///NONSGML kigkonsult.se iCalcreator 2.10.15//
METHOD:PUBLISH
BEGIN:VEVENT
UID:20260423T165900CEST-4075a6AsEn@https://takethedate.it/
DTSTAMP:20260423T145900Z
DESCRIPTION:Prosegue il corso La Piattaforma dei crediti commerciali del pe
 rcorso Tempi di pagamento dei debiti commerciali con il secondo modulo dal
  titolo La corretta rappresentazione in PCC delle unità organizzative dell
 ’ente mediante i relativi codici IPA e il trasferimento e la successiva es
 clusione delle fatture di competenza OSL degli enti in dissesto finanziari
 o.\nLa fattura elettronica\, transitata dal Sistema di Interscambio - SDI\
 , viene ricevuta dall’Ente che deve renderla immediatamente consultabile a
 ll’Ufficio ordinante mediante un’attività di smistamento. Al fine di ridur
 re i tempi di smistamento\, l’Ente può abilitare più Uffici ordinanti a ri
 cevere\, direttamente e automaticamente\, le fatture elettroniche effettua
 ndo in IPA l’associazione del servizio di fatturazione a più di una UO con
 traddistinta da un codice univoco.\nQuesta lezione illustrerà le modalità 
 di rappresentazione della struttura dell’ente in PCC in coerenza con l’ana
 grafica IPA dettagliando\, in particolare\, la modalità di gestione in PCC
  degli Organismi Straordinari di Liquidazione – OSL per il tramite delle f
 unzioni di trasferimento e di esclusione. Inoltre\, verranno illustrate le
  nuove modalità di registrazione a PCC.\nDocenti:Gianpiero Zaffi Borgetti 
 - Responsabile Area ICT e Servizi ai Comuni\, Dipartimento Finanza Locale 
 IFELGabriele Serafini - Software analyst\, SOGEI\nCome iscriversiLa lezion
 e è gratuita e aperta a tutti e fa parte del percorso formativo Tempi di p
 agamento dei debiti commerciali\nPer iscriverti e partecipare:\n\naccedi a
 lla Scuola IFEL\n\nvai alla pagina del corso La Piattaforma dei crediti co
 mmerciali e clicca su Iscriviti\n\n\n\nSe non sei in possesso delle creden
 ziali di accesso\, effettua prima la registrazione dal Sito IFEL e poi pro
 cedi all’accesso alla Scuola.\nCome partecipareLa partecipazione alla dire
 tta è riservata a 1000 partecipanti.Dal giorno lavorativo seguente la dire
 tta\, l’accesso sarà aperto a tutti per la fruizione della registrazione e
  dei materiali in modalità asincrona.\nPer gli iscritti è previsto il rila
 scio di un open badge personale attestante la competenza acquisita a concl
 usione del percorso formativo.I materiali delle attività formative erogate
  da IFEL sono disponibili anche in libera fruizione:\n\nsul canale YouTube
  Formazione IFEL\, nella playlist dedicata\n https://takethedate.it/tutti-
 gli-eventi/Eventi/52529-la-corretta-rappresentazione-in-pcc-delle-unita-or
 ganizzative-dellente-mediante-i-relativi-codici-ipa-e-il-trasferimento-e-l
 a-successiva-esclusione-delle-fatture-di-competenza-osl-degli-enti-in-diss
 esto-finanziario.html
DTSTART:20260424T093000Z
DTEND:20260424T110000Z
LOCATION:evento online  ()
SUMMARY:La corretta rappresentazione in PCC delle unità organizzative dell’
 ente mediante i relativi codici IPA e il trasferimento e la successiva esc
 lusione delle fatture di competenza OSL degli enti in dissesto finanziario
URL:https://takethedate.it/tutti-gli-eventi/Eventi/52529-la-corretta-rappre
 sentazione-in-pcc-delle-unita-organizzative-dellente-mediante-i-relativi-c
 odici-ipa-e-il-trasferimento-e-la-successiva-esclusione-delle-fatture-di-c
 ompetenza-osl-degli-enti-in-dissesto-finanziario.html
END:VEVENT
END:VCALENDAR
