BEGIN:VCALENDAR
VERSION:2.0
PRODID:-//https://takethedate.it///NONSGML kigkonsult.se iCalcreator 2.10.15//
METHOD:PUBLISH
BEGIN:VEVENT
UID:20260423T163446CEST-4370p6GmgN@https://takethedate.it/
DTSTAMP:20260423T143446Z
DESCRIPTION:La Lombardia è da sempre uno dei motori più dinamici del Paese:
  un territorio capace di coniugare innovazione\, tradizione produttiva e q
 ualità del capitale umano. In questo contesto\, i talenti rappresentano un
 a leva fondamentale per affrontare le sfide del presente e costruire il fu
 turo.\nFondazione Symbola\, in collaborazione con Fondazione Cariplo\, pro
 muove l’incontro “I Talenti della Lombardia”\, in programma il 7 maggio 20
 26 alle ore 10.30 a Milano\, presso Fondazione Cariplo (via Daniele Manin\
 , 23) . L’evento sarà un momento di confronto tra istituzioni\, imprese e 
 mondo della ricerca per riflettere sul ruolo strategico delle competenze\,
  della formazione e dell’innovazione nello sviluppo del territorio.\nAd ap
 rire i lavori sarà Domenico Sturabotti\, Direttore di Fondazione Symbola\,
  con la moderazione di Manuela Rafaiani\, giornalista e componente del CDA
  della Fondazione. Interverranno Ermete Realacci\, Presidente di Fondazion
 e Symbola\, Giovanni Azzone\, Presidente di Fondazione Cariplo\, Raffaello
  Vignali\, Direttore scientifico PoliS – Lombardia\, Regina De Albertis\, 
 Presidente Assimpredil Ance\, e Roberto Saccone\, Presidente della Camera 
 di Commercio di Brescia. Le conclusioni saranno affidate a Guido Guidesi\,
  Assessore allo Sviluppo economico di Regione Lombardia.\nPer partecipare 
 è necessario iscriversi.\nScarica il programma https://takethedate.it/tutt
 i-gli-eventi/Eventi/52527-i-talenti-della-lombardia-2026.html
DTSTART:20260507T083000Z
DTEND:20260507T113000Z
LOCATION:Milano (Milano)
SUMMARY:I talenti della Lombardia 2026
URL:https://takethedate.it/tutti-gli-eventi/Eventi/52527-i-talenti-della-lo
 mbardia-2026.html
END:VEVENT
END:VCALENDAR
