BEGIN:VCALENDAR
VERSION:2.0
PRODID:-//https://takethedate.it///NONSGML kigkonsult.se iCalcreator 2.10.15//
METHOD:PUBLISH
BEGIN:VEVENT
UID:20260423T182937CEST-9374zmUdMR@https://takethedate.it/
DTSTAMP:20260423T162937Z
DESCRIPTION:WORKSHOP LA SFIDA DELLA SICUREZZA AMBIENTALE E DEI CAMBIAMENTI 
 CLIMATICI NELLA REGIONE EURO-MEDITERRANEA\nNel corso del seminario verrà p
 resentata la pubblicazione “The challenge of environmental security in the
  Euro-Mediterranean region” (Ed. Springer) realizzata con il sostegno del 
 NATO Science for Peace and Security (SPS) Programme.\nIl workshop “La sfid
 a della sicurezza ambientale e dei cambiamenti climatici nella regione Eur
 o-Mediterranea” offre l’occasione di presentare ufficialmente la pubblicaz
 ione scientifica “The challenge of environmental security in the Euro-Medi
 terranean region” (ed.\nSpringer)\, realizzata nel quadro del NATO Science
  for Peace and Security (SPS) Programme.\nIl volume raccoglie\, infatti\, 
 i principali contributi scientifici e strategici emersi dall’Advanced Rese
 arch Workshop “Climate Change and Natural Hazards in the Euro-Mediterranea
 n Region: Security Impacts and Crisis Management”\, organizzato a Roma nel
  novembre 2024 da Med-Or Italian Foundation e il Ministero degli Affari Es
 teri del Regno di Giordania\, con la partnership scientifica dell’Istituto
  Nazionale di Geofisica e Vulcanologia (INGV).\nL’evento del 2024\, strutt
 urato in sei panel di discussione\, aveva riunito esperti provenienti da q
 uindici stati membri e paesi partner della NATO\, oltre a rappresentanti d
 i istituzioni internazionali\, centri di ricerca\, mondo accademico e dipl
 omatico.\nLa pubblicazione scientifica “The challenge of environmental sec
 urity in the Euro-Mediterranean region” nasce proprio dall’elaborazione de
 i risultati scientifici sviluppati durante questo percorso di dialogo inte
 rnazionale nel 2024\, sia dai relatori presenti al workshop che da altri e
 sperti del settore.\nNel corso del workshop del 29 aprile p.v.\, al termin
 e della sessione introduttiva\, la prima parte dei lavori sarà dedicata al
 la presentazione di alcuni contributi scientifici contenuti nella pubblica
 zione\, mentre la seconda parte dell’incontro sarà strutturata come una ta
 vola rotonda che riunirà esponenti delle istituzioni\, delle imprese e del
 la comunità scientifica.\nL’iniziativa intende offrire l’opportunità di ri
 flettere sulle priorità di policy\, sulle prospettive di cooperazione pubb
 lico-privata e sul ruolo delle tecnologie avanzate\, dell’osservazione del
 la Terra e delle capacità di previsione e gestione delle crisi nel rafforz
 are la resilienza dei sistemi economici e sociali.\nIl workshop si inseris
 ce pertanto nel solco del percorso di ricerca e dialogo internazionale avv
 iato nel 2024 con l’obiettivo di consolidare una rete di collaborazione tr
 a istituzioni\, centri di ricerca e attori industriali impegnati nello stu
 dio e nella gestione delle sfide poste dalla sicurezza ambientale e dai ca
 mbiamenti climatici nella regione euro-mediterranea. https://takethedate.i
 t/tutti-gli-eventi/Eventi/52506-la-sfida-della-sicurezza-ambientale-e-dei-
 cambiamenti-climatici-nella-regione-euro-mediterranea.html
DTSTART:20260429T130000Z
DTEND:20260429T160000Z
LOCATION:Roma (Roma)
SUMMARY:La sfida della sicurezza ambientale e dei cambiamenti climatici nel
 la regione euro-mediterranea
URL:https://takethedate.it/tutti-gli-eventi/Eventi/52506-la-sfida-della-sic
 urezza-ambientale-e-dei-cambiamenti-climatici-nella-regione-euro-mediterra
 nea.html
END:VEVENT
END:VCALENDAR
