BEGIN:VCALENDAR
VERSION:2.0
PRODID:-//https://takethedate.it///NONSGML kigkonsult.se iCalcreator 2.10.15//
METHOD:PUBLISH
BEGIN:VEVENT
UID:20260423T151212CEST-5755CwAKIL@https://takethedate.it/
DTSTAMP:20260423T131212Z
DESCRIPTION:I nuovi incentivi Transizione 5.0 in forma di iperammortamento 
 saranno il principale strumento agevolativo a sostegno degli investimenti 
 effettuati da tutti i titolari di reddito d’impresa fino al 30 settembre 2
 028. Gli investimenti possono riguardare beni strumentali funzionali alla 
 trasformazione tecnologica e digitale delle imprese secondo il paradigma 4
 .0 e beni immateriali (software\, sistemi\, piattaforme\, applicazioni\, a
 lgoritmi e modelli digitali) funzionali alla trasformazione digitale delle
  imprese\, che rientrino negli elenchi di cui agli Allegati IV e V alla Le
 gge di bilancio 2026 e siano interconnessi al sistema aziendale di gestion
 e della produzione o alla rete di fornitura. Inoltre\, l’iperammortamento 
 si applica agli investimenti in beni materiali nuovi strumentali all’eserc
 izio d’impresa finalizzati all’autoproduzione di energia da fonti rinnovab
 ili destinata all’autoconsumo (anche a distanza)\, compresi gli impianti p
 er lo stoccaggio dell’energia prodotta. Il Decreto attuativo in fase di em
 anazione da parte del MIMIT e del MEF regola l’applicazione degli incentiv
 i\, con diverse novità rispetto alla precedente versione\, che esamineremo
  insieme all’esponente del MIMIT\, Marco Calabrò. Programma: Introduzione 
 a cura di Marco Barbieri – Segretario Generale Confcommercio Intervento Ma
 rco Calabrò – Direttore Dipartimento politiche per le imprese – MIMIT Sess
 ione domande/risposte Modera: Andrea Gallo\, Editore FASI.eu    \n  https:
 //takethedate.it/tutti-gli-eventi/Eventi/52503-piano-transizione-5-0-il-de
 creto-attuativo-sulliperammortamento.html
DTSTART:20260427T130000Z
DTEND:20260427T150000Z
LOCATION:evento online  ()
SUMMARY:Piano Transizione 5.0: il decreto attuativo sull'iperammortamento
URL:https://takethedate.it/tutti-gli-eventi/Eventi/52503-piano-transizione-
 5-0-il-decreto-attuativo-sulliperammortamento.html
END:VEVENT
END:VCALENDAR
