BEGIN:VCALENDAR
VERSION:2.0
PRODID:-//https://takethedate.it///NONSGML kigkonsult.se iCalcreator 2.10.15//
METHOD:PUBLISH
BEGIN:VEVENT
UID:20260423T182722CEST-9105MsFnHl@https://takethedate.it/
DTSTAMP:20260423T162722Z
DESCRIPTION:I CAM sono definiti nell’ambito di quanto stabilito dal Piano p
 er la sostenibilità ambientale dei consumi del settore della pubblica ammi
 nistrazione e sono adottati con Decreto del Ministro.\nLa loro applicazion
 e consente di diffondere le tecnologie ambientali e i prodotti preferibili
  dal punto di vista ambientale\, incoraggiando le imprese a investire in i
 nnovazione e adottare pratiche sostenibili.\nIl percorso fornisce una cono
 scenza di base sui temi della sostenibilità ambientale e sull’applicazione
  dei Criteri Ambientali Minimi Rifiuti urbani e spazzamento stradale\, off
 rendone una visione d’insieme.\nIl webinar è gratuito ed è organizzato dal
 la Sezione Regionale Toscana Albo nazionale gestori ambientali e la Camera
  di Commercio di Firenze\, in collaborazione con Aenor Italia. https://tak
 ethedate.it/tutti-gli-eventi/Eventi/52485-criteri-ambientali-minimi-cam-ri
 fiuti-urbani-e-spazzamento-stradale.html
DTSTART:20260428T073000Z
DTEND:20260428T103000Z
LOCATION:evento online  ()
SUMMARY:Criteri Ambientali Minimi - CAM Rifiuti urbani e spazzamento strada
 le
URL:https://takethedate.it/tutti-gli-eventi/Eventi/52485-criteri-ambientali
 -minimi-cam-rifiuti-urbani-e-spazzamento-stradale.html
END:VEVENT
END:VCALENDAR
