BEGIN:VCALENDAR
VERSION:2.0
PRODID:-//https://takethedate.it///NONSGML kigkonsult.se iCalcreator 2.10.15//
METHOD:PUBLISH
BEGIN:VEVENT
UID:20260423T151005CEST-0800mVu07I@https://takethedate.it/
DTSTAMP:20260423T131005Z
DESCRIPTION:Il 23 aprile a Padova si svolgerà un focus con gli Ambasciatori
  dell'ASEAN sulle opportunità per le imprese. Sarà dedicato alle opportuni
 tà di commercio e investimento nei Paesi del Sud-Est asiatico. L’incontro 
 “ASEAN: Trade and Investment Opportunities” si terrà il 23 aprile dalle or
 e 10.00 nell’Archivio Antico di Palazzo del Bo\, dell’Università degli Stu
 di di Padova.\nL’iniziativa\, promossa dal Comitato ASEAN a Roma\, vedrà l
 a partecipazione dei rappresentanti diplomatici in Italia di cinque Paesi 
 dell’area: Dato’ Zahid Rastam\, ambasciatore della Malaysia\; Junimart Gir
 sang\, ambasciatore della Repubblica di Indonesia\; Nguyen Phuong Anh\, am
 basciatore della Repubblica Socialista del Vietnam\; Donna Celeste D. Feli
 ciano-Gatmaytan\, vicecapo missione dell’Ambasciata delle Filippine\; Jant
 arat Ngamchana\, vicecapo missione dell’Ambasciata Reale di Thailandia. A 
 moderare l’incontro sarà Manlio d’Agostino Panebianco\, console onorario d
 ella Malaysia a Padova.\nNel corso dell’iniziativa verrà presentata una pa
 noramica sull’ASEAN e sul processo di integrazione economica dell’area\, c
 on un focus sulle caratteristiche e sulle opportunità delle singole econom
 ie rappresentate.Il programma prevede: una presentazione generale dell’ASE
 AN e dell’integrazione economica\; interventi dedicati alle economie dei P
 aesi membri presenti\; una sessione di domande e risposte\; un momento con
 clusivo di networking.All’evento prenderanno parte anche rappresentanti de
 ll’Università di Padova\, delle istituzioni locali e regionali e della soc
 ietà civile. https://takethedate.it/tutti-gli-eventi/Eventi/52477-asean-tr
 ade-and-investment-opportunities.html
DTSTART:20260423T080000Z
DTEND:20260423T110000Z
LOCATION:Padova (Padova)
SUMMARY:ASEAN: trade and investment opportunities
URL:https://takethedate.it/tutti-gli-eventi/Eventi/52477-asean-trade-and-in
 vestment-opportunities.html
END:VEVENT
END:VCALENDAR
