BEGIN:VCALENDAR
VERSION:2.0
PRODID:-//https://takethedate.it///NONSGML kigkonsult.se iCalcreator 2.10.15//
METHOD:PUBLISH
BEGIN:VEVENT
UID:20260422T165018CEST-00595wwfVj@https://takethedate.it/
DTSTAMP:20260422T145018Z
DESCRIPTION:Presentazione del saggio “Vestire le Parole”\, Edizioni Franco 
 Angeli\nGiovedì 23 aprile\, ore 16 SALA STAMPA - CAMERA DEI DEPUTATI (Via 
 della Missione\, 4) e su webtv.camera.it\nSu iniziativa di FEDERICA ONORI 
 Deputata\, Azione\nIntervengono GIULIA ALOISIO RAFAIANI Autrice\, “Vestire
  le Parole” LAURA PACE Giornalista\nCapienza limitata\, è necessario richi
 edere l'accredito tramite email a segreteria.onori@camera.it  https://take
 thedate.it/tutti-gli-eventi/Eventi/52476-i-codici-visivi-della-comunicazio
 ne-nellera-dellai.html
DTSTART:20260423T140000Z
DTEND:20260423T160000Z
LOCATION:Roma (Roma)
SUMMARY:I codici visivi della comunicazione nell'era dell'AI
URL:https://takethedate.it/tutti-gli-eventi/Eventi/52476-i-codici-visivi-de
 lla-comunicazione-nellera-dellai.html
END:VEVENT
END:VCALENDAR
