BEGIN:VCALENDAR
VERSION:2.0
PRODID:-//https://takethedate.it///NONSGML kigkonsult.se iCalcreator 2.10.15//
METHOD:PUBLISH
BEGIN:VEVENT
UID:20260423T151006CEST-0230oK9Uvr@https://takethedate.it/
DTSTAMP:20260423T131006Z
DESCRIPTION:Appuntamento giovedì 30 aprile alle ore 10.30  con il webinar “
 Last call – presentazione del bando Action Networks del Programma URBACT I
 V”.Il programma URBACT IV ha lanciato lo scorso 17 marzo la call per gli A
 ction Networks che consente di implementare strategie urbane attraverso un
 a serie di azioni concrete che promuovano lo sviluppo urbano sostenibile. 
 Le città dei 27 Stati membri dell’Unione Europea e dei Paesi partner (Norv
 egia\, Svizzera\, Albania\, Bosnia-Erzegovina\, Montenegro\, Macedonia del
  Nord\, Serbia\, Moldavia e Ucraina) sono invitate a candidarsi entro il 1
 7 giugno prossimo.Un URBACT Action Network è composto da 6–8 città partner
  che con l’aiuto di esperti e risorse dedicate all’implementazione delle a
 zioni\, intraprenderanno un percorso di 2 anni e mezzo di apprendimento e 
 scambio con altre città europee per preparare i propri Action Portfolios. 
 Durante questo periodo\, beneficeranno di attività di rafforzamento delle 
 competenze\, opportunità di apprendimento e conoscenza\, oltre a ottenere 
 maggiore visibilità e riconoscimento a livello europeo.Nel corso del Webin
 ar\, grazie alle testimonianze dirette dei Comuni attuatori e al supporto 
 del Punto di Contatto Nazionale e dei Lead Expert\, saranno fornite inform
 azioni utili alla predisposizione delle proposte progettuali.\nISCRIZIONI 
 QUI https://takethedate.it/tutti-gli-eventi/Eventi/52459-last-call-present
 azione-dellultimo-bando-action-networks-del-programma-urbact-iv.html
DTSTART:20260430T083000Z
DTEND:20260430T113000Z
LOCATION:evento online  ()
SUMMARY:LAST CALL - Presentazione dell'ultimo bando Action Networks del Pro
 gramma URBACT IV
URL:https://takethedate.it/tutti-gli-eventi/Eventi/52459-last-call-presenta
 zione-dellultimo-bando-action-networks-del-programma-urbact-iv.html
END:VEVENT
END:VCALENDAR
