BEGIN:VCALENDAR
VERSION:2.0
PRODID:-//https://takethedate.it///NONSGML kigkonsult.se iCalcreator 2.10.15//
METHOD:PUBLISH
BEGIN:VEVENT
UID:20260422T151654CEST-59351VAjC5@https://takethedate.it/
DTSTAMP:20260422T131654Z
DESCRIPTION:Incontro con Anna Maria Bernini\, Ministro dell’Università e de
 lla Ricerca\, unitamente ad una delegazione dei Presidenti degli Enti di R
 icerca https://takethedate.it/tutti-gli-eventi/Eventi/52455-incontro-tra-m
 attarella-e-il-ministro-delluniversita-e-della-ricerca-unitamente-ad-una-d
 elegazione-dei-presidenti-degli-enti-di-ricerca.html
DTSTART:20260422T100000Z
DTEND:20260422T110000Z
LOCATION:Roma (Roma)
SUMMARY:Incontro tra Mattarella e il Ministro dell’Università e della Ricer
 ca\, unitamente ad una delegazione dei Presidenti degli Enti di Ricerca
URL:https://takethedate.it/tutti-gli-eventi/Eventi/52455-incontro-tra-matta
 rella-e-il-ministro-delluniversita-e-della-ricerca-unitamente-ad-una-deleg
 azione-dei-presidenti-degli-enti-di-ricerca.html
END:VEVENT
END:VCALENDAR
