BEGIN:VCALENDAR
VERSION:2.0
PRODID:-//https://takethedate.it///NONSGML kigkonsult.se iCalcreator 2.10.15//
METHOD:PUBLISH
BEGIN:VEVENT
UID:20260422T151634CEST-7004MCV5pJ@https://takethedate.it/
DTSTAMP:20260422T131634Z
DESCRIPTION:Mercoledì 22 Aprile 2026 ore 11:30. Comunicazione e Scienza per
  la tutela dei minori - Conferenza stampa di Andrea De Maria. Video comple
 to. https://takethedate.it/tutti-gli-eventi/Eventi/52452-comunicazione-e-s
 cienza-per-la-tutela-dei-minori-conferenza-stampa-di-andrea-de-maria.html
DTSTART:20260422T093000Z
DTEND:20260422T113000Z
LOCATION:Roma (Roma)
SUMMARY:Comunicazione e Scienza per la tutela dei minori - Conferenza stamp
 a di Andrea De Maria
URL:https://takethedate.it/tutti-gli-eventi/Eventi/52452-comunicazione-e-sc
 ienza-per-la-tutela-dei-minori-conferenza-stampa-di-andrea-de-maria.html
END:VEVENT
END:VCALENDAR
