BEGIN:VCALENDAR
VERSION:2.0
PRODID:-//https://takethedate.it///NONSGML kigkonsult.se iCalcreator 2.10.15//
METHOD:PUBLISH
BEGIN:VEVENT
UID:20260422T165452CEST-4703bjCCc8@https://takethedate.it/
DTSTAMP:20260422T145452Z
DESCRIPTION:Alle ore 15\, presso la Sala della Regina di Montecitorio si sv
 olge il convegno 'Un'eccellenza in Sabina al servizio del Paese - La Scuol
 a Interforze per la Difesa Nbc'. Saluto di Paolo Trancassini\, Questore de
 lla Camera. Programma  https://takethedate.it/tutti-gli-eventi/Eventi/5244
 8-uneccellenza-in-sabina-al-servizio-del-paese-la-scuola-interforze-per-la
 -difesa-nbc.html
DTSTART:20260422T130000Z
DTEND:20260422T160000Z
LOCATION:Roma (Roma)
SUMMARY:Un'eccellenza in Sabina al servizio del Paese - La Scuola Interforz
 e per la Difesa Nbc
URL:https://takethedate.it/tutti-gli-eventi/Eventi/52448-uneccellenza-in-sa
 bina-al-servizio-del-paese-la-scuola-interforze-per-la-difesa-nbc.html
END:VEVENT
END:VCALENDAR
