BEGIN:VCALENDAR
VERSION:2.0
PRODID:-//https://takethedate.it///NONSGML kigkonsult.se iCalcreator 2.10.15//
METHOD:PUBLISH
BEGIN:VEVENT
UID:20260423T163257CEST-4624dZwjU1@https://takethedate.it/
DTSTAMP:20260423T143257Z
DESCRIPTION:SCENARI ECONOMICI GLOBALI\nDomenico Siniscalco Vice Chairman & 
 Senior Advisor Morgan Stanley Europe\nIgnazio Visco Governatore Onorario B
 anca d'Italia\nINTRODUCE E MODERA Alessandro Lanza Direttore Esecutivo Fon
 dazione Eni Enrico Mattei\nmercoledì 27 maggio 2026 18:30 - 19:30\nFondazi
 one Eni Enrico Mattei Corso Magenta 63 Milano https://takethedate.it/tutti
 -gli-eventi/Eventi/52439-scenari-economici-globali.html
DTSTART:20260527T163000Z
DTEND:20260527T183000Z
LOCATION:Milano (Milano)
SUMMARY:Scenari economici globali
URL:https://takethedate.it/tutti-gli-eventi/Eventi/52439-scenari-economici-
 globali.html
END:VEVENT
END:VCALENDAR
