BEGIN:VCALENDAR
VERSION:2.0
PRODID:-//https://takethedate.it///NONSGML kigkonsult.se iCalcreator 2.10.15//
METHOD:PUBLISH
BEGIN:VEVENT
UID:20260423T150918CEST-7775fGVm8V@https://takethedate.it/
DTSTAMP:20260423T130918Z
DESCRIPTION:l prossimo 6 maggio 2026 si terrà il webinar L’efficienza energ
 etica e Diagnosi Energetica nelle PMI – Opportunità e strumenti per le PMI
  (ore 15.00 – 16.30)\, organizzato da ENEA e Confindustria Romagna.\nL’ini
 ziativa rappresenta la terza tappa della Campagna nazionale di formazione\
 , informazione e sensibilizzazione sull’efficienza energetica per le PMI p
 romossa da ENEA in collaborazione con il Ministero dell’Ambiente e della S
 icurezza Energetica\, in attuazione dell’art. 8\, comma 10 ter del D. Lgs.
  102/2014\, con l’obiettivo di accompagnare le imprese verso una maggiore 
 consapevolezza e competitività attraverso l’efficienza energetica.\nL’even
 to è un’occasione di confronto sulle principali barriere tecniche ed econo
 miche che le PMI incontrano nell’implementazione delle misure di efficienz
 a energetica. Durante l’incontro verranno presentate proposte concrete e s
 trumenti operativi per supportare le imprese nel superamento di tali ostac
 oli\, contribuendo al percorso verso la transizione energetica dei sistemi
  produttivi. Fondamentale sarà anche il contributo diretto fornito da alcu
 ne imprese afferenti a Confindustria Romagna tramite le presentazioni di c
 asi studio.\nI ricercatori ENEA illustreranno tool e linee guida operative
  per la redazione delle diagnosi energetiche\, sviluppati nell’ambito del 
 Piano di Sensibilizzazione\, del Progetto Ricerca di Sistema e dei progett
 i internazionali coordinati dall’Agenzia.\nPer maggiori informazioni e per
  iscriversi https://takethedate.it/tutti-gli-eventi/Eventi/52437-lefficien
 za-energetica-e-diagnosi-energetica-nelle-pmi.html
DTSTART:20260506T130000Z
DTEND:20260506T150000Z
LOCATION:evento online  ()
SUMMARY: L’efficienza energetica e Diagnosi Energetica nelle PMI
URL:https://takethedate.it/tutti-gli-eventi/Eventi/52437-lefficienza-energe
 tica-e-diagnosi-energetica-nelle-pmi.html
END:VEVENT
END:VCALENDAR
