BEGIN:VCALENDAR
VERSION:2.0
PRODID:-//https://takethedate.it///NONSGML kigkonsult.se iCalcreator 2.10.15//
METHOD:PUBLISH
BEGIN:VEVENT
UID:20260423T200754CEST-2625ijUiXT@https://takethedate.it/
DTSTAMP:20260423T180754Z
DESCRIPTION:L’iniziativa organizzata da OM.EN. Consulenze è dedicato all’an
 alisi approfondita delle principali criticità connesse alla gestione degli
  appalti\, con particolare attenzione agli aspetti operativi e alle respon
 sabilità in capo al committente. Saranno esaminati i profili penali\, trib
 utari e lavoristici\, grazie al contributo di professionisti qualificati e
 d esperti del settore. La giornata formativa sarà strutturata in intervent
 i di carattere giuridico\, analisi di casi pratici e momenti di confronto 
 interattivo\, con l’obiettivo di fornire ai partecipanti strumenti concret
 i per una gestione degli appalti consapevole e pienamente conforme alla no
 rmativa vigente. L’evento si terrà presso l’Hotel San Marco\, situato in V
 ia Emilia Ovest 42\, a Pontetaro di Noceto (Parma).\nL’iscrizione potrà es
 sere effettuata contattando il Dott. Simeone al numero 344 1393802 oppure 
 inviando un’e-mail al seguente indirizzo: f.simeone@euroomen.it\nAi Tecnol
 ogi Alimentari verranno riconosciuti 4 crediti formativi.\n\nLocandina OM.
 EN. CONSULENZESize: 1.24 MB Format: PDFPreview\n https://takethedate.it/tu
 tti-gli-eventi/Eventi/52425-appalti-endo-aziendali-e-rischi-interferenzial
 i-tra-art-26-e-titolo-iv-del-d-lgs-81-2008.html
DTSTART:20260519T070000Z
DTEND:20260519T120000Z
LOCATION:Parma (Parma)
SUMMARY:   Appalti endo-aziendali e rischi interferenziali tra art.26 e tit
 olo IV del D.lgs. 81/2008
URL:https://takethedate.it/tutti-gli-eventi/Eventi/52425-appalti-endo-azien
 dali-e-rischi-interferenziali-tra-art-26-e-titolo-iv-del-d-lgs-81-2008.htm
 l
END:VEVENT
END:VCALENDAR
