BEGIN:VCALENDAR
VERSION:2.0
PRODID:-//https://takethedate.it///NONSGML kigkonsult.se iCalcreator 2.10.15//
METHOD:PUBLISH
BEGIN:VEVENT
UID:20260422T183513CEST-7984xLIoBh@https://takethedate.it/
DTSTAMP:20260422T163513Z
DESCRIPTION:Rho (Mi): si apre la 64esima edizione del 'Salone del Mobile'\,
  la fiera internazionale di riferimento per il settore dell'arredamento e 
 del design. Alle ore 10\,30 cerimonia inaugurale alla presenza del preside
 nte del Senato\, Ignazio La Russa\, e del vicepresidente del Consiglio\, A
 ntonio Tajani. Presso il quartiere fieristico. La manifestazione si conclu
 de il 26 aprile. https://takethedate.it/tutti-gli-eventi/Eventi/52340-salo
 ne-del-mobile-2026.html
DTSTART:20260421T083000Z
DTEND:20260426T163000Z
LOCATION:Milano (Milano)
SUMMARY:Salone del Mobile 2026
URL:https://takethedate.it/tutti-gli-eventi/Eventi/52340-salone-del-mobile-
 2026.html
END:VEVENT
END:VCALENDAR
