BEGIN:VCALENDAR
VERSION:2.0
PRODID:-//https://takethedate.it///NONSGML kigkonsult.se iCalcreator 2.10.15//
METHOD:PUBLISH
BEGIN:VEVENT
UID:20260423T163004CEST-8921ufpLme@https://takethedate.it/
DTSTAMP:20260423T143004Z
DESCRIPTION:Rimini: prende il via 'Macfrut 2026'\, appuntamento internazion
 ale per il settore dell'ortofrutta. Alle ore 10\,30 il convegno di apertur
 a 'L'ortofrutta\, tra competitivita' e geopolitica'. Partecipano\, tra gli
  altri\, Cristiano Fini\, presidente di Cia-Agricoltori Italiani\; Frances
 co Lollobrigida\, ministro dell'Agricoltura. Presso il quartiere fieristic
 o. La manifestazione si conclude il 23 aprile. https://takethedate.it/tutt
 i-gli-eventi/Eventi/52331-macfrut-2026.html
DTSTART:20260421T070000Z
DTEND:20260423T150000Z
LOCATION:Rimini (Rimini )
SUMMARY:Macfrut 2026
URL:https://takethedate.it/tutti-gli-eventi/Eventi/52331-macfrut-2026.html
END:VEVENT
END:VCALENDAR
