BEGIN:VCALENDAR
VERSION:2.0
PRODID:-//https://takethedate.it///NONSGML kigkonsult.se iCalcreator 2.10.15//
METHOD:PUBLISH
BEGIN:VEVENT
UID:20260423T165435CEST-9583BEUInV@https://takethedate.it/
DTSTAMP:20260423T145435Z
DESCRIPTION:Martedì 28 aprile 2026 a Roma si terrà il seminario “Scenari po
 st-PNRR. Piano e conoscenza locale”\, promosso dalla Fondazione IFEL in co
 llaborazione con alcune delle università italiane attive nell'ambito della
  ricerca territoriale sul PNRR.\nL’iniziativa nasce dall’incontro tra IFEL
  e tre Progetti di Ricerca di Interesse Nazionale (PRIN) dedicati al Piano
  Nazionale di Ripresa e Resilienza — Reframing Spatial Justice\, Territori
 alizing the National Recovery and Resilience Plan e Metropolitan Cities un
 der PNRR — con l’obiettivo di mettere in dialogo ricerca\, istituzioni e a
 ttori del territorio attorno a una domanda oggi cruciale: quale eredità la
 scerà il PNRR nei territori italiani e come accompagnarne gli esiti oltre 
 la scadenza del Piano.\nIl seminario si inserisce\, quindi\, nel percorso 
 di lavoro che la Fondazione ha sviluppato negli ultimi anni sul PNRR\, att
 raverso attività di supporto ai Comuni\, monitoraggio dell’attuazione e co
 struzione di analisi e strumenti per analizzare criticità\, opportunità e 
 ricadute territoriali degli investimenti.\nL'evento è organizzato in colla
 borazione con Università degli Studi Roma Tre\, Università IUAV Venezia\, 
 Università degli Studi Firenze\, Alma Mater Studiorum Bologna Università d
 i Bologna\, Università di Catania e Politecnico di Milano DASTU.\nIL TEMA 
 Più che proporre un bilancio conclusivo del Piano\, l’incontro intende apr
 ire uno spazio di discussione operativa sul “dopo”\, mettendo a confronto 
 saperi\, pratiche ed esperienze utili a costruire continuità tra investime
 nti straordinari e politiche ordinarie.\nI progetti affrontano le trasform
 azioni territoriali legate alle politiche pubbliche e ai grandi programmi 
 di investimento\, con particolare attenzione agli effetti su equità\, svil
 uppo e coesione sociale e territoriale.\nIn questa prospettiva\, il coinvo
 lgimento delle Università e del mondo della ricerca riflette il forte impe
 gno di IFEL nel valorizzare il ruolo della conoscenza per rafforzare i pro
 cessi di policy making e rendere le politiche pubbliche più efficaci e mir
 ate.\nLa giornata sarà articolata in una sessione mattutina di restituzion
 e dei risultati delle ricerche PRIN e in una sessione pomeridiana con tavo
 li di lavoro riservati\, cui parteciperanno policy maker\, ricercatori e r
 icercatrici\, docenti universitari e stakeholder del terzo settore.\nI lav
 ori dei tavoli riservati e le principali evidenze emerse saranno successiv
 amente resi disponibili attraverso i canali istituzionali di IFEL. Il prog
 ramma della sessione mattinata sarà disponibile a breve.\nTale sessione sa
 rà trasmessa esclusivamente in diretta streaming sul canale YouTube della 
 Fondazione. https://takethedate.it/tutti-gli-eventi/Eventi/52328-scenari-p
 ost-pnrr-piano-di-conoscenza-locale.html
DTSTART:20260428T073000Z
DTEND:20260428T103000Z
LOCATION:Roma (Roma)
SUMMARY:Scenari post-PNRR: piano di conoscenza locale
URL:https://takethedate.it/tutti-gli-eventi/Eventi/52328-scenari-post-pnrr-
 piano-di-conoscenza-locale.html
END:VEVENT
END:VCALENDAR
