BEGIN:VCALENDAR
VERSION:2.0
PRODID:-//https://takethedate.it///NONSGML kigkonsult.se iCalcreator 2.10.15//
METHOD:PUBLISH
BEGIN:VEVENT
UID:20260422T183513CEST-8152wwdRem@https://takethedate.it/
DTSTAMP:20260422T163513Z
DESCRIPTION:Si svolgerà a Roma\, il 21 e 22 aprile\, la prima Conferenza Na
 zionale Antifrode dell’Agenzia delle Dogane e dei Monopoli. L’evento\, nat
 o nel contesto della creazione della Rete Nazionale Antifrode\, sarà un mo
 mento di confronto e condivisione tra chi opera ogni giorno sul campo e ch
 i definisce strategie e priorità dell’Agenzia.Protagonisti saranno vertici
  istituzionali\, strutture centrali\, uffici territoriali\, laboratori\, f
 unzioni investigative\, analitiche e di intelligence\, insieme a partner n
 azionali e sovranazionali. https://takethedate.it/tutti-gli-eventi/Eventi/
 52326-conferenza-nazionale-antifrode-dellagenzia-delle-dogane-e-dei-monopo
 li.html
DTSTART:20260421T070000Z
DTEND:20260422T140000Z
LOCATION:Roma (Roma)
SUMMARY:Conferenza Nazionale Antifrode dell’Agenzia delle Dogane e dei Mono
 poli
URL:https://takethedate.it/tutti-gli-eventi/Eventi/52326-conferenza-naziona
 le-antifrode-dellagenzia-delle-dogane-e-dei-monopoli.html
END:VEVENT
END:VCALENDAR
