BEGIN:VCALENDAR
VERSION:2.0
PRODID:-//https://takethedate.it///NONSGML kigkonsult.se iCalcreator 2.10.15//
METHOD:PUBLISH
BEGIN:VEVENT
UID:20260423T165315CEST-3367ejEDTT@https://takethedate.it/
DTSTAMP:20260423T145315Z
DESCRIPTION:CONFAGRICOLTURA INVITA ALLA PRESENTAZIONE DEL LIBRO SPIE VERE &
  CARTE FALSE di Claudio Petruccioli\nINTRODUCE Massimiliano Giansanti Pres
 idente di Confagricoltura\nDISCUTERANNO CON L'AUTORE: Paolo Mieli Marcello
  Sorgi Alessandra Libutti\nGIOVEDÌ 23 APRILE 2026 dalle ore 17.30\nPALAZZO
  DELLA VALLE Corso Vittorio Emanuele II\, 101 - Roma https://takethedate.i
 t/tutti-gli-eventi/Eventi/52266-presentazione-del-libro-spie-vere-e-carte-
 false.html
DTSTART:20260423T153000Z
DTEND:20260423T173000Z
LOCATION:Roma (Roma)
SUMMARY:Presentazione del libro 'Spie vere e carte false'
URL:https://takethedate.it/tutti-gli-eventi/Eventi/52266-presentazione-del-
 libro-spie-vere-e-carte-false.html
END:VEVENT
END:VCALENDAR
