BEGIN:VCALENDAR
VERSION:2.0
PRODID:-//https://takethedate.it///NONSGML kigkonsult.se iCalcreator 2.10.15//
METHOD:PUBLISH
BEGIN:VEVENT
UID:20260423T212840CEST-18004FNfC7@https://takethedate.it/
DTSTAMP:20260423T192840Z
DESCRIPTION:Giunto all’11^ edizione\, il convegno SAFAP 2026 si svolge a Ri
 mini. Proposto con cadenza biennale a partire dal 2004 e giunto ormai all’
 undicesima edizione\, il convegno Safap è finalizzato a fare il punto sull
 o stato dell’arte nel campo delle attrezzature a pressione.\nL’edizione 20
 26 assume particolare importanza perché celebra il centenario della costit
 uzione dell’Associazione nazionale controllo combustione (Ancc)\, che died
 e avvio alle attività di omologazione e verifica di attrezzature a pressio
 ne e generatori di vapore.\nL’esperienza e il ruolo istituzionale e profes
 sionale permettono all’Inail di rimanere un punto di riferimento nazionale
  per le imprese in merito alla sicurezza di impianti e prodotti\, dalla fa
 se di fabbricazione alla fase di esercizio in sicurezza.\nDurante l’evento
 \, esperti del settore presenteranno oltre cento memorie tecnico-scientifi
 che incentrate su diversi temi\, dalle nuove tecnologie impiantistiche all
 ’impiego di nuovi materiali\, dai metodi di controllo innovativi alla gest
 ione dei rischi.\nParticolare evidenza sarà data all’utilizzo della roboti
 ca nelle ispezioni in contesti pericolosi e all’uso dell’intelligenza arti
 ficiale come strumento di supporto alla manutenzione.\nArticolate in sessi
 oni plenarie e parallele\, le giornate verranno aperte dalla sessione “Ina
 il alla Ricerca di un lavoro sicuro”\, in cui l’attività di ricerca e quel
 la di certificazione e verifica trovano il loro naturale contesto tecnico-
 scientifico\, attraverso un modello collaborativo fatto di sviluppo contin
 uo delle tecnologie.\nIn questa occasione saranno anche presentati i proto
 tipi di ultima generazione sviluppati dall’Istituto\, frutto di un’attivit
 à di ricerca fortemente orientata al miglioramento delle condizioni di sal
 ute e sicurezza dei lavoratori.\nProgramma provvisorio https://takethedate
 .it/tutti-gli-eventi/Eventi/52237-sicurezza-e-affidabilita-delle-attrezzat
 ure-a-pressione-e-degli-impianti-di-processo-la-gestione-del-rischio-dalla
 -costruzione-allesercizio.html
DTSTART:20260511T070000Z
DTEND:20260513T170000Z
LOCATION:Rimini (Rimini )
SUMMARY:Sicurezza e affidabilità delle attrezzature a pressione e degli imp
 ianti di processo. La gestione del rischio dalla costruzione all’esercizio
URL:https://takethedate.it/tutti-gli-eventi/Eventi/52237-sicurezza-e-affida
 bilita-delle-attrezzature-a-pressione-e-degli-impianti-di-processo-la-gest
 ione-del-rischio-dalla-costruzione-allesercizio.html
END:VEVENT
END:VCALENDAR
