BEGIN:VCALENDAR
VERSION:2.0
PRODID:-//https://takethedate.it///NONSGML kigkonsult.se iCalcreator 2.10.15//
METHOD:PUBLISH
BEGIN:VEVENT
UID:20260422T151709CEST-8054IGNCUV@https://takethedate.it/
DTSTAMP:20260422T131709Z
DESCRIPTION:Programma\n\nInizio lavori ore 10.00Saluti Istituzionali\nRegio
 ne Toscana\nIntroduzione\nI. Drogo Inglese | Presidente Stati Generali del
  Patrimonio Italiano\nM. Martinelli | Presidente di Certiquality\nNuovi sc
 enari per il patrimonio culturale italiano\nM. Tonelli | Direttore Art Tri
 bubne\nIl nuovo standard SGPI:01\nC. Gistri | Direttore Tecnico Certiquali
 ty\nTavola rotonda: Benefici dello standard per gli Operatori di settore\n
 L. Lutzoni | Area Marina Protetta Tavolara - Punta Coda Cavallo\nC. Ceccut
 i | Presidente della Fondazione Spadolini N. Antologia\nOpera Musei Fioren
 tini (in via di conferma)\nQ&A\nChiusura\nC. Manetti | Assessore alla Cult
 ura Regione Toscana\n12.45 - Chiusura\n https://takethedate.it/tutti-gli-e
 venti/Eventi/52220-presentazione-standard-di-certificazione-per-la-valoriz
 zazione-dei-beni-e-del-patrimonio.html
DTSTART:20260422T080000Z
DTEND:20260422T110000Z
LOCATION:Firenze (Firenze)
SUMMARY:Presentazione Standard di certificazione per la valorizzazione dei 
 Beni e del Patrimonio
URL:https://takethedate.it/tutti-gli-eventi/Eventi/52220-presentazione-stan
 dard-di-certificazione-per-la-valorizzazione-dei-beni-e-del-patrimonio.htm
 l
END:VEVENT
END:VCALENDAR
