BEGIN:VCALENDAR
VERSION:2.0
PRODID:-//https://takethedate.it///NONSGML kigkonsult.se iCalcreator 2.10.15//
METHOD:PUBLISH
BEGIN:VEVENT
UID:20260423T212532CEST-9288t5eV1v@https://takethedate.it/
DTSTAMP:20260423T192532Z
DESCRIPTION:Un momento di confronto e partecipazione tra istituzioni\, orga
 nizzazioni e professionisti per promuovere la parità di genere nel mondo d
 el lavoro.\nL’evento si terrà il 6 maggio 2026 dalle 09.30 alle 13.30 a Mi
 lano presso lo Smart City Lab\, in Via Giuseppe Ripamonti 88. I posti sono
  limitati\, ci si può iscrivere qui.\nL’incontro coinvolgerà attori pubbli
 ci e privati di Italia\, Spagna e Lituania\, con l’obiettivo di favorire p
 ratiche di conciliazione tra vita lavorativa e vita privata.\nCon la parte
 cipazione di istituzioni\, organizzazioni e professionisti\, l’evento rapp
 resenta un’occasione di confronto e collaborazione per promuovere politich
 e inclusive.\nInterverranno anche Chiara Agostini e Eleonora De Stefanis. 
 https://takethedate.it/tutti-gli-eventi/Eventi/52219-verso-un-lavoro-piu-e
 quo-un-confronto-sulla-parita-di-genere-nel-mondo-del-lavoro.html
DTSTART:20260506T073000Z
DTEND:20260506T113000Z
LOCATION:Milano (Milano)
SUMMARY:Verso un lavoro più equo: un confronto sulla parità di genere nel m
 ondo del lavoro
URL:https://takethedate.it/tutti-gli-eventi/Eventi/52219-verso-un-lavoro-pi
 u-equo-un-confronto-sulla-parita-di-genere-nel-mondo-del-lavoro.html
END:VEVENT
END:VCALENDAR
