BEGIN:VCALENDAR
VERSION:2.0
PRODID:-//https://takethedate.it///NONSGML kigkonsult.se iCalcreator 2.10.15//
METHOD:PUBLISH
BEGIN:VEVENT
UID:20260423T212835CEST-92169cnVVr@https://takethedate.it/
DTSTAMP:20260423T192835Z
DESCRIPTION:Il Manufacturing Forum 2026 è il primo appuntamento italiano in
 teramente dedicato alla trasformazione del manifatturiero\, con un focus s
 ulla governance del lavoro\, la gestione della forza lavoro e le decisioni
  che determinano la competitività industriale.\nUn contesto esclusivo in c
 ui decision maker di HR\, Finance e Operations si incontrano\, si confront
 ano e dialogano con chi ogni giorno affronta le stesse sfide: persone\, tu
 rni\, costi e continuità operativa.\nPromosso da SD Worx\, realtà internaz
 ionale specializzata in payroll e amministrazione del personale e da anni 
 al fianco delle principali aziende manifatturiere italiane ed europee\, il
  Forum si propone come una piattaforma di ispirazione\, contenuti e relazi
 oni per chi guida l'evoluzione organizzativa della fabbrica.\nL'agenda del
 l'evento è accessibile nella sezione Programma. https://takethedate.it/tut
 ti-gli-eventi/Eventi/52173-manufacturing-forum-2026.html
DTSTART:20260526T130000Z
DTEND:20260526T150000Z
LOCATION:Milano (Milano)
SUMMARY:Manufacturing forum 2026
URL:https://takethedate.it/tutti-gli-eventi/Eventi/52173-manufacturing-foru
 m-2026.html
END:VEVENT
END:VCALENDAR
