BEGIN:VCALENDAR
VERSION:2.0
PRODID:-//https://takethedate.it///NONSGML kigkonsult.se iCalcreator 2.10.15//
METHOD:PUBLISH
BEGIN:VEVENT
UID:20260423T212951CEST-54981oLrLi@https://takethedate.it/
DTSTAMP:20260423T192951Z
DESCRIPTION:Il Conservatorio di Bologna é soggetto attuatore del progetto A
 FAM PNRR “Jerus-It-Arts” e il suo ruolo è stato ed é quello di promuovere 
 la ricerca in ambito artistico musicale.\nL’iniziativa\, che si terrà il 4
  maggio 2026\, dalle ore 10.00 alle ore 18.00 presso Europa Experience – D
 avid Sassoli di Roma\, intende promuovere le basi per valorizzare la ricer
 ca artistica e musicale in Europa dopo il Next GenerationEU\, creando una 
 roadmap europea.\nSi intende riflettere sul patrimonio culturale europeo n
 ella musica come fattore di integrazione nell’Unione Europea e il dialogo 
 interculturale\, sulla ricerca musicale e il contributo dei Conservatori a
 gli obiettivi dell’Unione Europea\, sulle politiche europee per l’Alta For
 mazione Musicale\, sull’importanza della mobilità artistica e alla circola
 zione dei talenti e su altre importanti tematiche. https://takethedate.it/
 tutti-gli-eventi/Eventi/52163-verso-la-roadmap-europea-della-ricerca-artis
 tica-e-musicale-dopo-il-next-generation-eu.html
DTSTART:20260504T080000Z
DTEND:20260504T160000Z
LOCATION:location mancante (verrà assegnata dall'operatore) ()
SUMMARY:Verso la roadmap europea della ricerca artistica e musicale dopo il
  Next Generation EU
URL:https://takethedate.it/tutti-gli-eventi/Eventi/52163-verso-la-roadmap-e
 uropea-della-ricerca-artistica-e-musicale-dopo-il-next-generation-eu.html
END:VEVENT
END:VCALENDAR
