BEGIN:VCALENDAR
VERSION:2.0
PRODID:-//https://takethedate.it///NONSGML kigkonsult.se iCalcreator 2.10.15//
METHOD:PUBLISH
BEGIN:VEVENT
UID:20260423T134734CEST-9003jcx1rm@https://takethedate.it/
DTSTAMP:20260423T114734Z
DESCRIPTION:AmCham Italy\, in collaborazione con Legance è lieta di invitar
 vi all’incontro “Il payback come barriera non tariffaria e l’impatto sugli
  investimenti in R&D in Italia”.\nL’evento si terrà a Roma\, presso la sed
 e di Legance (Via di San Nicola da Tolentino 67) giovedì 23 aprile alle or
 e 10.00.\nApertura lavori Luca Franzi\, Vice Presidente Vicario\, American
  Chamber of Commerce in Italy\, Vice Presidente Esecutivo\, AON Introduce 
 Lorenzo Gentiloni Silveri\, Partner\, Legance Intervengono Camilla Cocuzza
 \, Associate Vice President General Counsel Italy Hub\, Eli Lilly and Comp
 any Fabrizio Greco\, Amministratore Delegato\, AbbVie Italia Paola Pirotta
 \, Amministratrice Delegata\, Medtronic Italia Dario Scapola\, Government 
 Affairs & Integrated Access Management Director\, Roche Italia Pietro Merl
 ino\, Partner\, Legance\nwww.legance.it - events@legance.it  https://taket
 hedate.it/tutti-gli-eventi/Eventi/52114-il-payback-come-barriera-non-tarif
 faria-e-limpatto-sugli-investimenti-in-rd-in-italia.html
DTSTART:20260423T080000Z
DTEND:20260423T110000Z
LOCATION:Roma (Roma)
SUMMARY:Il payback come barriera non tariffaria e l'impatto sugli investime
 nti in RD in italia
URL:https://takethedate.it/tutti-gli-eventi/Eventi/52114-il-payback-come-ba
 rriera-non-tariffaria-e-limpatto-sugli-investimenti-in-rd-in-italia.html
END:VEVENT
END:VCALENDAR
