BEGIN:VCALENDAR
VERSION:2.0
PRODID:-//https://takethedate.it///NONSGML kigkonsult.se iCalcreator 2.10.15//
METHOD:PUBLISH
BEGIN:VEVENT
UID:20260423T180717CEST-98979giv5D@https://takethedate.it/
DTSTAMP:20260423T160717Z
DESCRIPTION:PROGRAMMA ORE 10.45 Registrazione e Welcome coffee\nORE 11.15 I
 ntervengono ITALO FOLONARI\, Presidente ANIASA GIANLUCA DI LORETO\, Partne
 r Bain & Company\nLE NUOVE COORDINATE DELLA MOBILITÀ Noleggio - Condizione
  - Flotte - Decarbonizzazione\nL'avanzata della mobilità a noleggio in Ita
 lia Presentazione dello studio promosso da Bain & Company e da ANIASA 'Il 
 futuro sbagliato della mobilità. Rimettere il cliente al volante del setto
 re auto'\nSeguirà light lunch\nR.S.V.P. Marco Catino / m.catino@aniasa.it 
 https://takethedate.it/tutti-gli-eventi/Eventi/52076-le-nuove-coordinate-d
 ella-mobilita.html
DTSTART:20260505T084500Z
DTEND:20260505T114500Z
LOCATION:Milano (Milano)
SUMMARY:Le nuove coordinate della mobilità
URL:https://takethedate.it/tutti-gli-eventi/Eventi/52076-le-nuove-coordinat
 e-della-mobilita.html
END:VEVENT
END:VCALENDAR
