BEGIN:VCALENDAR
VERSION:2.0
PRODID:-//https://takethedate.it///NONSGML kigkonsult.se iCalcreator 2.10.15//
METHOD:PUBLISH
BEGIN:VEVENT
UID:20260423T134235CEST-3148M2uUoO@https://takethedate.it/
DTSTAMP:20260423T114235Z
DESCRIPTION:Saluti e introduzione ILENIA MALAVASI Capogruppo PD - Commissio
 ne Affari Sociali Camera dei Deputati MARINA SERENI Responsabile Diritto a
 lla Salute e sanità Segreteria nazionale PD PAOLA BOLDRINI | Come procede 
 l’applicazione della legge Vicepresidente Intergruppo parlamentare diabete
  e obesità e malattie croniche non trasmissibili\, promotrice della Legge 
 sulla Medicina di Genere BEATRICE LORENZIN | Il decennale della Giornata S
 alute della donna Vicepresidente Gruppo PD Senato della Repubblica GIANCAR
 LO TONOLO | Il genere nella terapia dell’obesità e del diabete Presidente 
 Società Italiana Metabolismo\, Diabete\, Obesità ROSSANA BERARDI | Il gene
 re nella terapia oncologica Direttrice Clinica Oncologica Università Polit
 ecnica delle Marche - AOU\, Presidente eletta AIOM FRANCESCA MOTTA | Il ge
 nere nella terapia delle malattie autoimmuni IRCCS Humanitas Research Hosp
 ital ROBERTA AGABIO | L’appropriatezza terapeutica nel dolore cronico Univ
 ersità di Cagliari DANIELA TRABATTONI | L’appropriatezza terapeutica di ge
 nere nelle malattie cardiovascolari Responsabile Monzino Women Unità opera
 tiva Cariologia Interventistica Coronarica e difetti cardiaci FABRIZIO GEM
 MI | Agenzie sanitarie regionali: miniere di dati per arrivare all’appropr
 iatezza terapeutica Coordinatore dell’Osservatorio per la qualità e l’equi
 tà dell’Agenzia Sanitaria Toscana DISCUSSIONI\, PROPOSTE E CONCLUSIONI COO
 RDINA ELISA MANACORDA https://takethedate.it/tutti-gli-eventi/Eventi/52061
 -lappropriatezza-terapeutica-dipende-dal-genere.html
DTSTART:20260423T080000Z
DTEND:20260423T110000Z
LOCATION:Roma (Roma)
SUMMARY:L'appropriatezza terapeutica dipende dal genere
URL:https://takethedate.it/tutti-gli-eventi/Eventi/52061-lappropriatezza-te
 rapeutica-dipende-dal-genere.html
END:VEVENT
END:VCALENDAR
