BEGIN:VCALENDAR
VERSION:2.0
PRODID:-//https://takethedate.it///NONSGML kigkonsult.se iCalcreator 2.10.15//
METHOD:PUBLISH
BEGIN:VEVENT
UID:20260423T213200CEST-5306eNBNUS@https://takethedate.it/
DTSTAMP:20260423T193200Z
DESCRIPTION:Presso - Esperienza Europa - David Sassoli Europa Experience – 
 David Sassoli Piazza Venezia 6 c\, Roma - Venerdì 24 aprile Inizio lavori:
  16:30 - Fine lavori: 18:00\nIntervengono: Prof. Avv. Raffaele Lener Prof.
  Marta Bordignon Avv. Maurizio Arena Dott.ssa Cristina Pestelli Dott. Marc
 o Fasciglione (PHD) Modera: Dott. Guglielmo Costante Salerno  https://take
 thedate.it/tutti-gli-eventi/Eventi/51981-diritti-umani-e-compliance-nellec
 onomia-sociale-europea.html
DTSTART:20260424T143000Z
DTEND:20260424T163000Z
LOCATION:Roma (Roma)
SUMMARY:Diritti umani e compliance nell'economia sociale europea
URL:https://takethedate.it/tutti-gli-eventi/Eventi/51981-diritti-umani-e-co
 mpliance-nelleconomia-sociale-europea.html
END:VEVENT
END:VCALENDAR
