BEGIN:VCALENDAR
VERSION:2.0
PRODID:-//https://takethedate.it///NONSGML kigkonsult.se iCalcreator 2.10.15//
METHOD:PUBLISH
BEGIN:VEVENT
UID:20260421T034201CEST-935582cnVX@https://takethedate.it/
DTSTAMP:20260421T014201Z
DESCRIPTION:Roma: il ministro delle Imprese e del Made in Italy\, Adolfo Ur
 so\, insieme al professor Marco Fortis\, vicepresidente e direttore della 
 Fondazione Edison\, presenta il Report 'Le Nuove Sfide del Made in Italy'.
  https://takethedate.it/tutti-gli-eventi/Eventi/51645-presentazione-del-re
 port-le-nuove-sfide-del-made-in-italy.html
DTSTART:20260401T090000Z
DTEND:20260401T110000Z
LOCATION:Roma (Roma)
SUMMARY:Presentazione del report 'Le nuove sfide del made in Italy'
URL:https://takethedate.it/tutti-gli-eventi/Eventi/51645-presentazione-del-
 report-le-nuove-sfide-del-made-in-italy.html
END:VEVENT
END:VCALENDAR
