BEGIN:VCALENDAR
VERSION:2.0
PRODID:-//https://takethedate.it///NONSGML kigkonsult.se iCalcreator 2.10.15//
METHOD:PUBLISH
BEGIN:VEVENT
UID:20260421T103457CEST-7302fDaJ6b@https://takethedate.it/
DTSTAMP:20260421T083457Z
DESCRIPTION:REFERENDUM SULLA GIUSTIZIA 22-23 MARZO 2026\nSÌ NO a confronto
 \nOn. Mario Mantovani Vice Presidente Commissione Affari Giuridici Parlame
 nto Europeo\, FDI\nSen. Sandro Sisler Vice Presidente II Commissione (Gius
 tizia) Senato\, FDI\nSen. Alfredo Bazoli Componente II Commissione (Giusti
 zia) Senato\, PD\nSen. Walter Verini Segretario II Commissione (Giustizia)
  Senato\, PD\nModera Fabio Massa\, Giornalista e scrittore\nVenerdì 27 Feb
 braio 2026 dalle ore 17:30 c/o Sala convegni Assimpredil ANCE - Via San Ma
 urilio 21\, Milano per informazioni contattare: 3347614954 https://takethe
 date.it/tutti-gli-eventi/Eventi/50649-referendum-sulla-giustizia-si-no-a-c
 onfronto.html
DTSTART:20260227T163000Z
DTEND:20260227T183000Z
LOCATION:Milano (Milano)
SUMMARY:Referendum sulla giustizia. SI-NO a confronto
URL:https://takethedate.it/tutti-gli-eventi/Eventi/50649-referendum-sulla-g
 iustizia-si-no-a-confronto.html
END:VEVENT
END:VCALENDAR
