BEGIN:VCALENDAR
VERSION:2.0
PRODID:-//https://takethedate.it///NONSGML kigkonsult.se iCalcreator 2.10.15//
METHOD:PUBLISH
BEGIN:VEVENT
UID:20260423T183333CEST-5537DVEVT4@https://takethedate.it/
DTSTAMP:20260423T163333Z
DESCRIPTION:La conferenza SECEM\, rivolta ai professionisti attivi nella ge
 stione dell’energia\, si articolerà su due giornate\, offrendo ampio spazi
 o sia all’aggiornamento professionale che al networking.\nIl 29 e 30 april
 e saranno organizzate due sessioni plenarie e sei seminari paralleli\, str
 utturati per affrontare le tematiche più rilevanti del momento\, con parti
 colare attenzione alle evoluzioni delle politiche\, delle normative e del 
 mercato.\nNon mancheranno momenti conviviali per favorire il confronto tra
  i partecipanti\, tra cui coffee break durante entrambe le giornate e due 
 pranzi.\nSito: www.secem.eu https://takethedate.it/tutti-gli-eventi/Eventi
 /49543-gli-esperti-in-gestione-dellenergia-tra-presente-e-futuro-tra-obbli
 ghi-ed-opportunita.html
DTSTART:20260429T070000Z
DTEND:20260430T150000Z
LOCATION:Rimini (Rimini )
SUMMARY:Gli esperti in Gestione dell’Energia tra presente e futuro\, tra ob
 blighi ed opportunità
URL:https://takethedate.it/tutti-gli-eventi/Eventi/49543-gli-esperti-in-ges
 tione-dellenergia-tra-presente-e-futuro-tra-obblighi-ed-opportunita.html
END:VEVENT
END:VCALENDAR
