BEGIN:VCALENDAR
VERSION:2.0
PRODID:-//https://takethedate.it///NONSGML kigkonsult.se iCalcreator 2.10.15//
METHOD:PUBLISH
BEGIN:VEVENT
UID:20260423T172803CEST-7470vNjW0U@https://takethedate.it/
DTSTAMP:20260423T152803Z
DESCRIPTION:Nuova edizione per ‘Economica’ la rassegna annuale di ‘Anpit Az
 ienda Italia’ sui temi economici\, politici e sociali.Imprenditori\, polit
 ici\, giornalisti\, economisti ed accademici si confronteranno sui profond
 i cambiamenti che stanno caratterizzando l’Italia in questi mesi.‘Il Paese
  bello. La rotta italiana nella turbolenza globale’\, è il titolo che acco
 mpagnerà la quinta edizione: dibattiti\, interviste\, analisi e riflession
 i.Geopolitica\, imprese\, aree interne e denatalità\, politiche industrial
 i\, eccellenze nazionali\, i temi che saranno approfonditi nei diversi pan
 el che si susseguiranno in questa tre giorni.Ad arricchire il programma de
 ll’evento presentazioni di libri\, la seconda edizione della mostra sugli 
 imprenditori ‘La Grande Italia’\, uomini d’impresa ed economisti che hanno
  fatto grande il Paese\, l’intrattenimento musicale con il Maestro Mogol e
  Gianmarco Carroccia che ricorderanno\, tra narrazione a interpretazione\,
  il cantautore Lucio Battisti e degustazione di prodotti tipici.Programma:
 \nVENERDÌ 24 OTTOBRE 2025\nORE 09.00 Accredito\nORE 09.45 Saluti istituzio
 nali Alessandra Selvi – Responsabile dei Rapporti Commerciali Etica Lavoro
  Fabrizio Spada – Responsabile Institutional Relations European Parliament
  - Office in Italy Modera: Nicola Porro – Giornalista\nORE 10.00 La Rotta 
 italiana: le politiche industriali come leva per lo sviluppo Testimonianza
  associato Anpit: Davide Lisciani – CEO Lisciani Giochi Intervengono: Fran
 cesco Filini – Commissione Finanze Camera dei Deputati Francesco Giubilei 
 – Presidente Fondazione Tatarella Marcello Minenna – Professore di Asset P
 ricing Università La Sapienza Antonio Misiani – Commissione Bilancio Senat
 o della Repubblica Roberto Sommella – Direttore MF-Milano Finanza Modera: 
 Nicola Porro – Giornalista\nORE 15.00 Presentazione del libro 'L’Impero Mi
 nore' Alberto Bagnai – Commissione Finanze Camera dei Deputati Alfredo D’A
 ttorre – Professore di Filosofia del Diritto Università di Salerno Sergio 
 Giraldo – Autore del libro Modera: Andrea Pancani – Giornalista\nORE 16.00
  La Rotta italiana: le eccellenze italiane\, tra turismo\, cultura ed enog
 astronomia\, per la crescita del Paese Omaggio alla Marina Militare – Amer
 igo Vespucci Tour Testimonianza associato Anpit: Attilio Caroli Caputo – D
 irettore Caroli Hotels Intervengono: Piero Cannas – Presidente Camera di C
 ommercio Italiana in Polonia Gianluca Caramanna – Commissione Attività Pro
 duttive\, Commercio e Turismo Camera dei Deputati Federico Carli – Preside
 nte Associazione Guido Carli Paola De Micheli – Commissione Attività Produ
 ttive\, Commercio e Turismo Camera dei Deputati Franco Maria Ricci – Presi
 dente Fondazione Italiana Sommelier Modera: Andrea Pancani – Giornalista\n
 ORE 17.30 Il Paese Bello\, riflessioni con: Andrea Abodi – Ministro per lo
  Sport e i Giovani Modera: Roberto Inciocchi – Giornalista\nORE 18.00 Il P
 aese Bello\, riflessioni con: Adolfo Urso – Ministro delle Imprese e del M
 ade in Italy Modera: Roberto Inciocchi – Giornalista\nORE 19.00 Aperitivo 
 con musica Quartetto d'Archi 'Le Nereidi'\n\nGIOVEDÌ 23 OTTOBRE 2025\nORE 
 09.00 Accredito\nORE 10.00 Il Paese Bello\, riflessioni con: Dario Fabbri 
 – Direttore della Rivista Domino Modera: Giuseppe De Filippi – Giornalista
 \nORE 10.30 La Rotta italiana: strategie geopolitiche per una nuova centra
 lità Testimonianza associato Anpit: Giuseppe Marino – Cofondatore e Senior
  Partner Sintesi Network Intervengono: Enrico Borghi – Commissione Affari 
 Esteri e Difesa Senato della Repubblica Valerio De Luca – Presidente Fonda
 zione AISES Andrea Manciulli – Direttore delle Relazioni Istituzionali del
 la Med-Or Italian Foundation Giorgio Mulé – Commissione Difesa Camera dei 
 Deputati Ettore Francesco Sequi – Già Segretario Generale della Farnesina 
 - Presidente Cda Sorgenia Spa Modera: Giuseppe De Filippi – Giornalista\nO
 RE 18.00 Il Paese Bello\, riflessioni con: Claudio Durigon – Sottosegretar
 io di Stato al Ministero del Lavoro e delle Politiche Sociali Modera: Andr
 ea Pancani – Giornalista\nORE 18.30 Il Paese Bello\, riflessioni con: Fede
 rico Iadicicco – Presidente Nazionale Anpit Modera: Andrea Pancani – Giorn
 alista\nORE 19.45 Spettacolo 'Emozioni' a cura del Maestro Mogol e Gianmar
 co Carroccia\nORE 21.00 Cena con Live Cooking Show a cura di API – Associa
 zione Pizzerie Italiane\n\nSABATO 25 OTTOBRE 2025\nORE 09.00 Accredito\nOR
 E 11.30 La Rotta italiana: aree interne e sud\, come superare spopolamento
  e denatalità Testimonianza associato Anpit: Pietro Mastromonaco – CEO Adr
 iatica Pubblicità srl Intervengono: Dolores Bevilacqua – Commissione Indus
 tria\, Commercio\, Turismo e Agricoltura Senato della Repubblica Luca Bian
 chi – Direttore Generale Svimez Guido Castelli – Commissario Straordinario
  di Governo alla Ricostruzione delle Aree Colpite dal Terremoto del 2016 e
  2017 Francesco Cavallaro – Segretario Generale Cisal Maria Rita Testa – P
 rofessoressa di Demografia Università Luiss Modera: Fabrizio Frullani – Gi
 ornalista\nORE 12.30 Il Paese Bello\, riflessioni con: Giuseppe Conte* – G
 ià Presidente del Consiglio dei Ministri Modera: Fabrizio Frullani – Giorn
 alista\nORE 13.30 Pranzo\n https://takethedate.it/tutti-gli-eventi/Eventi/
 48483-il-paese-bello-la-rotta-italiana-nella-turbolenza-globale.html
DTSTART:20251022T070000Z
DTEND:20251024T113000Z
LOCATION: ()
SUMMARY:Il Paese Bello - La Rotta Italiana Nella Turbolenza Globale
URL:https://takethedate.it/tutti-gli-eventi/Eventi/48483-il-paese-bello-la-
 rotta-italiana-nella-turbolenza-globale.html
END:VEVENT
END:VCALENDAR
