BEGIN:VCALENDAR
VERSION:2.0
PRODID:-//https://takethedate.it///NONSGML kigkonsult.se iCalcreator 2.10.15//
METHOD:PUBLISH
BEGIN:VEVENT
UID:20260421T020250CEST-1699s0Rtbt@https://takethedate.it/
DTSTAMP:20260421T000250Z
DESCRIPTION:Spazio Rosselli\, via degli Alfani 101/r\, Firenze\nI colloqui 
 della Fondazione Circolo Rosselli\n“La sentenza della Corte Costituzionale
 ”\nInterventi di:\nMarcello Cecchetti\, Andrea Pertici\nLe prospettive del
  regionalismo\nGiovanni Tarli Barbieri\nPresiede Valdo Spini https://taket
 hedate.it/tutti-gli-eventi/Eventi/44774-la-sentenza-della-corte-costituzio
 nale.html
DTSTART:20250122T163000Z
DTEND:20250122T183000Z
LOCATION:Fondazione Circolo Rosselli (Via degli Alfani 101\, Firenze)
SUMMARY:La sentenza della Corte Costituzionale
URL:https://takethedate.it/tutti-gli-eventi/Eventi/44774-la-sentenza-della-
 corte-costituzionale.html
END:VEVENT
END:VCALENDAR
