BEGIN:VCALENDAR
VERSION:2.0
PRODID:-//https://takethedate.it///NONSGML kigkonsult.se iCalcreator 2.10.15//
METHOD:PUBLISH
BEGIN:VEVENT
UID:20260420T055455CEST-9050a4Wzau@https://takethedate.it/
DTSTAMP:20260420T035455Z
DESCRIPTION:Il Circolo degli Esteri ha promosso per martedì 14 gennaio\, al
 le ore 18.30\, una tavola rotonda dal titolo: 'Israel and the Middle East:
  New Prospects Under a Republican Administration'\, evento dedicato all'an
 alisi delle prospettive geopolitiche e delle dinamiche di cambiamento nell
 a regione mediorientale.L’incontro vedrà la partecipazione di esperti e au
 torevoli relatori che approfondiranno le implicazioni di una possibile amm
 inistrazione repubblicana sulle relazioni tra Israele e i Paesi del Medio 
 Oriente. Sarà un’occasione unica per esplorare scenari futuri e riflettere
  insieme sulle opportunità e le sfide per la stabilità regionale. \nIn par
 ticolare interverranno Pierluigi Testa\, presidente del think tank 'Trinit
 à dei Monti'\; Bepi Pezzulli\, direttore ricerca di Italia Atlantica\; Dan
 iel Pipes\, presidente di Middle East Forum\; Niram Ferretti\, analista in
 dipendente di Arab-Israeli Conflict e editore de 'L'Informale'\; Germano D
 ettori\, membro del comitato scientifico di 'Limes'.\nL'evento si svolgerà
  in Inglese.\n\nInformazioni e prenotazioni: 06.8086.130 - segreteria@circ
 oloesteri.it\nCircolo degli Esteri\, Lungotevere dell'Acqua Acetosa\, 42 -
  Roma https://takethedate.it/tutti-gli-eventi/Eventi/44740-israel-and-the-
 middle-east-new-prospects-under-a-republican-administration.html
DTSTART:20250114T173000Z
DTEND:20250114T190000Z
LOCATION: ()
SUMMARY:Israel and the Middle East: New Prospects Under a Republican Admini
 stration
URL:https://takethedate.it/tutti-gli-eventi/Eventi/44740-israel-and-the-mid
 dle-east-new-prospects-under-a-republican-administration.html
END:VEVENT
END:VCALENDAR
