BEGIN:VCALENDAR
VERSION:2.0
PRODID:-//https://takethedate.it///NONSGML kigkonsult.se iCalcreator 2.10.15//
METHOD:PUBLISH
BEGIN:VEVENT
UID:20260421T073422CEST-6686NjAB35@https://takethedate.it/
DTSTAMP:20260421T053422Z
DESCRIPTION: https://takethedate.it/tutti-gli-eventi/Eventi/38970-la-transi
 zione-ecologica-dellacqua-conoscenza-qualita-integrazione.html
DTSTART:20231004T070000Z
DTEND:20231004T113000Z
LOCATION: ()
SUMMARY:La transizione ecologica dell'acqua. Conoscenza\, qualità\, integra
 zione
URL:https://takethedate.it/tutti-gli-eventi/Eventi/38970-la-transizione-eco
 logica-dellacqua-conoscenza-qualita-integrazione.html
END:VEVENT
END:VCALENDAR
