BEGIN:VCALENDAR
VERSION:2.0
PRODID:-//https://takethedate.it///NONSGML kigkonsult.se iCalcreator 2.10.15//
METHOD:PUBLISH
BEGIN:VEVENT
UID:20260420T103119CEST-0777SX0loj@https://takethedate.it/
DTSTAMP:20260420T083119Z
DESCRIPTION:22 MAR ore 10:00  presso Palazzo Giustiniani - Sala Zuccari - V
 ia della Dogana Vecchia 29\, Roma\nIn occasione della Giornata Mondiale su
 ll'Acqua\, Federbim organizza un convegno in cui verrà presentata la piatt
 aforma SI-BIM realizzata dalla Federazione per dare una rappresentazione f
 inalmente completa ed evoluta dei Bacini Imbriferi Montani\, dei Consorzi 
 BIM e dell’intero sistema territoriale influenzato dalle leggi 959/53 e 22
 8/2012.\nIl convegno potrà essere seguito in diretta streaming sui canali 
 del Senato e sulle nostre pagine social. https://takethedate.it/tutti-gli-
 eventi/Eventi/36486-i-bacini-imbriferi-montani-al-tempo-della-crisi-idrica
 -ed-energetica.html
DTSTART:20230322T090000Z
DTEND:20230322T110000Z
LOCATION:Palazzo Giustiniani  (Via della Dogana Vecchia 29\, Roma)
SUMMARY:I bacini imbriferi montani al tempo della crisi idrica ed energetic
 a
URL:https://takethedate.it/tutti-gli-eventi/Eventi/36486-i-bacini-imbriferi
 -montani-al-tempo-della-crisi-idrica-ed-energetica.html
END:VEVENT
END:VCALENDAR
