BEGIN:VCALENDAR
VERSION:2.0
PRODID:-//https://takethedate.it///NONSGML kigkonsult.se iCalcreator 2.10.15//
METHOD:PUBLISH
BEGIN:VEVENT
UID:20260424T001411CEST-8866iV0uCb@https://takethedate.it/
DTSTAMP:20260423T221411Z
DESCRIPTION:Il webinar si pone l’obiettivo di fare il punto sulla mobilità 
 elettrica come uno dei pilastri della transizione energetica\, ma anche co
 me una delle soluzioni imprescindibili per un sistema di trasporti più sos
 tenibile nella fase post Covid-19.\n\nQuali sono le attuali criticità per 
 lo sviluppo della mobilità elettrica in ambito urbano?\nQual è lo status q
 uo delle principali tecnologie e dei business model per una maggior diffus
 ione della mobilità elettrica?\nQuale ruolo potrebbe svolgere la mobilità 
 elettrica nella fase di ricostruzione economica post Covid19?\n\nNe discut
 ono:\nFederico Caleno\, Head of e-Mobility Solutions\, Enel X Italia\nTomm
 aso Chiorino\, imprenditore\, Co-fondatore e CEO\, Seawe\nRiccardo Valle\,
  Country Manager\, Acciona Mobility Italia\nMatteo Di Castelnuovo\, Dirett
 ore Africa Lab\, SDA Associate Professor of Practice in Energy Economics\,
  MaGER Director\, Just Energy Transition (JET) Coordinator\nLa partecipazi
 one è gratuita previa registrazione online. https://takethedate.it/tutti-g
 li-eventi/Eventi/19875-il-ruolo-della-mobilita-elettrica-nel-mondo-post-co
 vid-19.html
DTSTART:20200526T163000Z
DTEND:20200526T171500Z
LOCATION:evento online  ()
SUMMARY:Il ruolo della mobilità elettrica nel mondo post Covid-19
URL:https://takethedate.it/tutti-gli-eventi/Eventi/19875-il-ruolo-della-mob
 ilita-elettrica-nel-mondo-post-covid-19.html
END:VEVENT
END:VCALENDAR
