BEGIN:VCALENDAR
VERSION:2.0
PRODID:-//https://takethedate.it///NONSGML kigkonsult.se iCalcreator 2.10.15//
METHOD:PUBLISH
BEGIN:VEVENT
UID:20260423T110429CEST-1475CA5jfJ@https://takethedate.it/
DTSTAMP:20260423T090429Z
DESCRIPTION:Si terrà al Royal Hotel Carlton di Bologna (via Massarenti\, 9)
  il 29 gennaio 2019 il 1st G.I.Co meeting intrahepatic cholangiocarcinoma.
 \nL’evento sarà occasione per fare il punto sulle nuove terapie e dei tria
 l in corso per la cura del colangiocarcinoma intraepatico. Chairman del me
 eting sarà Giovanni Brandi del Policlinico Sant’Orsola – Malpighi. \nSono 
 stati richiesti 6 crediti ecm per: medico chirurgo (Discipline in: Gastroe
 nterologia\, Genetica Medica\, Oncologia\, Radioterapia\, Chirurgia Genera
 le\, Anatomia Patologica\, Radiodiagnostica)\, farmacista (Disciplina in F
 armacia Ospedaliera)\, biologo.\nPer iscrizioni e conoscere il programma d
 ell’evento clicca qui.  https://takethedate.it/tutti-gli-eventi/Eventi/107
 91-1st-g-i-co-meeting-intrahepatic-cholangiocarcinoma.html
DTSTART:20190129T080000Z
DTEND:20190129T163000Z
LOCATION:Royal Hotel Carlton (Via Montebello 8\, Bologna)
SUMMARY:1st G.I.Co meeting intrahepatic cholangiocarcinoma
URL:https://takethedate.it/tutti-gli-eventi/Eventi/10791-1st-g-i-co-meeting
 -intrahepatic-cholangiocarcinoma.html
END:VEVENT
END:VCALENDAR
