BEGIN:VCALENDAR
VERSION:2.0
PRODID:-//https://takethedate.it///NONSGML kigkonsult.se iCalcreator 2.10.15//
METHOD:PUBLISH
BEGIN:VEVENT
UID:20260425T184607CEST-9263WToxIu@https://takethedate.it/
DTSTAMP:20260425T164607Z
DESCRIPTION:Saluti istituzionali Modera: Prof. Paco D'Onofrio Relazioni Sen
 . Mariolina Castellone - M5S Sen. Licia Ronzulli - FI Sen. Marco Lombardo 
 - Azione Sen. Marco Lisei - FdI Sen. Simona Malpezzi - PD Interventi Dott.
  Mirko Damasco - Salvagente Italia Prof.ssa Elena Bignami - SIAARTI Dott.s
 sa Katia Ranzato - IRC Dott. Riccardo Giudici - Croce Rossa Riflessioni co
 nclusive https://takethedate.it/sanita/Eventi/52593-sport-e-primo-soccorso
 -una-legge-che-salva-una-vita.html
DTSTART:20260427T130000Z
DTEND:20260427T160000Z
LOCATION:Bologna ()
SUMMARY:Sport e primo soccorso: una legge che salva una vita
URL:https://takethedate.it/sanita/Eventi/52593-sport-e-primo-soccorso-una-l
 egge-che-salva-una-vita.html
END:VEVENT
END:VCALENDAR
