BEGIN:VCALENDAR
VERSION:2.0
PRODID:-//https://takethedate.it///NONSGML kigkonsult.se iCalcreator 2.10.15//
METHOD:PUBLISH
BEGIN:VEVENT
UID:20260425T184446CEST-1390EBagGj@https://takethedate.it/
DTSTAMP:20260425T164446Z
DESCRIPTION:Lunedì 27 aprile - ore 18:00 Sala Pirelli - Via Filzi\, 22\n- P
 roiezione del cortometraggio “Mi Vedete?” -\nSaluti istituzionali On. Mari
 o Mantovani Vice Presidente Commissione Giuridica Parlamento Europeo Patri
 zia Baffi Presidente III Commissione Sanità Consiglio regionale Lombardia 
 Deborah Dell’Acqua Vice Coordinatore Fratelli d’Italia Milano città\nIntro
 duzione Prof. Bernardo Dell’Osso Professore ordinario di psichiatria Unive
 rsità degli studi di Milano\, direttore del dipartimento di salute mentale
  e dipendenze\, Asst Fatebenefratelli Sacco\nModera Christian Garavaglia P
 residente Gruppo Consiliare Fratelli d’Italia Regione Lombardia\nRelatori 
 Dott. Luca Bernardo Direttore Dipartimento Medicina dell’Infanzia dell’età
  evolutiva e della Medicina di genere dell’Asst Fatebenefratelli Sacco Dot
 t. Giovanni Migliarese Psichiatra\, direttore SC Salute Mentale Lomellina 
 Asst Pavia e membro della Società Italiana di Psichiatria Dott.ssa Maura R
 ossi Responsabile Struttura Semplice Neuropsichiatria Infantile Territoria
 le\, Asst Fatebenefratelli Sacco Dott.ssa Francesca Maisano Psicologa Clin
 ica e Psicoterapeuta dell’età evolutiva Referente del Centro Adolescenti d
 i Casa Pediatrica https://takethedate.it/sanita/Eventi/52554-dove-va-la-sa
 nita-lombarda-la-salute-mentale.html
DTSTART:20260427T160000Z
DTEND:20260427T180000Z
LOCATION:Milano (Milano)
SUMMARY:Dove va la sanità lombarda: la salute mentale
URL:https://takethedate.it/sanita/Eventi/52554-dove-va-la-sanita-lombarda-l
 a-salute-mentale.html
END:VEVENT
END:VCALENDAR
