BEGIN:VCALENDAR
VERSION:2.0
PRODID:-//https://takethedate.it///NONSGML kigkonsult.se iCalcreator 2.10.15//
METHOD:PUBLISH
BEGIN:VEVENT
UID:20260425T184710CEST-1743bvlZ3I@https://takethedate.it/
DTSTAMP:20260425T164710Z
DESCRIPTION:Il SUMMIT della Logistica Sanitaria è un laboratorio permanente
 \, giunto al suo terzo anno di attività.\nL’obiettivo è consolidare una co
 munità di pratica\, che favorisce l’incontro tra i partner industriali e i
  vertici strategici e professionisti delle Aziende Sanitarie per: individu
 are soluzioni e tecnologie innovative per il miglioramento della logistica
  sanitaria la stesura del Vademecum di processo\, con cui vogliamo disegna
 re un modello di approccio ai progetti di logistica sanitaria\, anche alla
  luce dei bandi per AQ Consip sulla Micro-logistica (armadi) e sulla macro
 -logistica e della recente sentenza Corte di Giustizia UE sulla clausola d
 i preferenza. https://takethedate.it/sanita/Eventi/52232-summit-permanente
 -per-la-logistica-sanitaria.html
DTSTART:20260427T140000Z
DTEND:20260427T170000Z
LOCATION:evento online  ()
SUMMARY:Summit permanente per la logistica sanitaria 
URL:https://takethedate.it/sanita/Eventi/52232-summit-permanente-per-la-log
 istica-sanitaria.html
END:VEVENT
END:VCALENDAR
