BEGIN:VCALENDAR
VERSION:2.0
PRODID:-//https://takethedate.it///NONSGML kigkonsult.se iCalcreator 2.10.15//
METHOD:PUBLISH
BEGIN:VEVENT
UID:20260425T184405CEST-0714c8vdhK@https://takethedate.it/
DTSTAMP:20260425T164405Z
DESCRIPTION:L’evento “Farmaco accessibile: la ‘rivoluzione gentile’ della p
 rossimità” si terrà giovedì 26 marzo alle ore 10:00 presso il Ministero de
 lla Salute e promosso dal Sottosegretario alla Salute On. Marcello Gemmato
 .\nSarà possibile seguire il convegno in diretta streaming al seguente lin
 k:  https://www.youtube.com/watch?v=xH7V8fqoUZU https://takethedate.it/san
 ita/Eventi/51436-farmaco-accessibile-la-rivoluzione-gentile-della-prossimi
 ta.html
DTSTART:20240326T090000Z
DTEND:20240326T120000Z
LOCATION:evento online  ()
SUMMARY:Farmaco accessibile: la rivoluzione gentile della prossimità
URL:https://takethedate.it/sanita/Eventi/51436-farmaco-accessibile-la-rivol
 uzione-gentile-della-prossimita.html
END:VEVENT
END:VCALENDAR
