BEGIN:VCALENDAR
VERSION:2.0
PRODID:-//https://takethedate.it///NONSGML kigkonsult.se iCalcreator 2.10.15//
METHOD:PUBLISH
BEGIN:VEVENT
UID:20260420T184347CEST-1632vj6zl2@https://takethedate.it/
DTSTAMP:20260420T164347Z
DESCRIPTION:AgID presenterà in anteprima le funzionalità aggiornate del Rep
 ertorio Nazionale dei Dati Territoriali (RNDT)\, illustrando le novità tec
 nologiche e le modifiche introdotte per rispettare le recenti disposizioni
  europee sui dati.\nIn vista della pubblicazione della nuova versione del 
 portale Geodati\, l’Agenzia per l’Italia Digitale organizza\, per il 22 ap
 rile 2026\, dalle ore 10:00 alle ore 12:00\, un workshop online dedicato a
 lle pubbliche amministrazioni già accreditate al popolamento del Repertori
 o Nazionale dei Dati Territoriali (RNDT) per illustrare le novità e gli ag
 giornamenti sulle funzionalità disponibili.\nLe pubbliche amministrazioni 
 che sono già registrate al portale riceveranno una mail con i dettagli del
 l’evento\, oltre al link per l’accesso al workshop. Chi non dovesse riceve
 re la comunicazione\, può segnalarlo all’indirizzo dati@agid.gov.it. https
 ://takethedate.it/politica/Eventi/52325-il-portale-geodati-si-rinnova-work
 shop-per-le-pa-accreditate.html
DTSTART:20260422T080000Z
DTEND:20260422T100000Z
LOCATION:evento online  ()
SUMMARY:Il portale geodati si rinnova: workshop per le PA accreditate
URL:https://takethedate.it/politica/Eventi/52325-il-portale-geodati-si-rinn
 ova-workshop-per-le-pa-accreditate.html
END:VEVENT
END:VCALENDAR
