BEGIN:VCALENDAR
VERSION:2.0
PRODID:-//https://takethedate.it///NONSGML kigkonsult.se iCalcreator 2.10.15//
METHOD:PUBLISH
BEGIN:VEVENT
UID:20260421T024608CEST-8810FUdisp@https://takethedate.it/
DTSTAMP:20260421T004608Z
DESCRIPTION: \nMartedì 21 Aprile 2026 ore 11:00\nAlle ore 11\, presso la Sa
 la del Refettorio di Palazzo San Macuto si svolge il convegno 'Costituzion
 e e lavoro: l'impresa del futuro - 80 anni di Repubblica tra eredità stori
 ca e avanguardia tecnologica'. Saluto del vicepresidente della Camera\, Se
 rgio Costa. \n  https://takethedate.it/lavoro/Eventi/52407-costituzione-e-
 lavoro-limpresa-del-futuro-80-anni-di-repubblica-tra-eredita-storica-e-ava
 nguardia-tecnologica-saluto-di-costa.html
DTSTART:20260421T090000Z
DTEND:20260421T110000Z
LOCATION:Roma (Roma)
SUMMARY:Costituzione e lavoro: l'impresa del futuro - 80 anni di Repubblica
  tra eredità storica e avanguardia tecnologica - Saluto di Costa
URL:https://takethedate.it/lavoro/Eventi/52407-costituzione-e-lavoro-limpre
 sa-del-futuro-80-anni-di-repubblica-tra-eredita-storica-e-avanguardia-tecn
 ologica-saluto-di-costa.html
END:VEVENT
END:VCALENDAR
