BEGIN:VCALENDAR
VERSION:2.0
PRODID:-//https://takethedate.it///NONSGML kigkonsult.se iCalcreator 2.10.15//
METHOD:PUBLISH
BEGIN:VEVENT
UID:20260421T024610CEST-2385NEON8F@https://takethedate.it/
DTSTAMP:20260421T004610Z
DESCRIPTION:Presentazione del Contratto Collettivo Nazionale di Lavoro Meta
 lmeccanico Cooperativo Vigenza 2024 - 2028 23 aprile 2026 | 10:00 - 13:30 
 CNEL - Villa Lubin | Sala Plenaria Marco Biagi | Via David Lubin 2 - Roma 
 Il nuovo CCNL dei lavoratori delle imprese cooperative metalmeccaniche sot
 toscritto il 22 luglio 2025 dalle Associazioni Cooperative e dalle Organiz
 zazioni Sindacali firmatarie.\n10:00 - Accoglienza | 10:30 - Avvio lavori 
 Saluto di Renato Brunetta Presidente del Consiglio Nazionale dell'Economia
  e del Lavoro Intervengono: Gianmaria Balducci Presidente Legacoop Produzi
 one e Servizi Massimo Stronati Presidente Confcooperative Lavoro e Servizi
  Sebastiano Cusumano Presidente AGCI Produzione e Lavoro Ferdinando Uliano
  Segretario generale Fim-Cisl Michele De Palma Segretario generale Fiom-Cg
 il Rocco Palombella Segretario generale Uilm-Uil Modera: Rita Querzè Corri
 ere della Sera Con il patrocinio del https://takethedate.it/lavoro/Eventi/
 52376-contratto-collettivo-nazionale-di-lavoro-metalmeccanico-cooperativo.
 html
DTSTART:20260423T080000Z
DTEND:20260423T110000Z
LOCATION:Roma (Roma)
SUMMARY:Contratto collettivo nazionale di lavoro metalmeccanico cooperativo
URL:https://takethedate.it/lavoro/Eventi/52376-contratto-collettivo-naziona
 le-di-lavoro-metalmeccanico-cooperativo.html
END:VEVENT
END:VCALENDAR
